BEGIN:VCALENDAR
VERSION:2.0
PRODID:-//Cours de cuisine By Serge Labrosse - ECPv5.8.0//NONSGML v1.0//EN
CALSCALE:GREGORIAN
METHOD:PUBLISH
X-WR-CALNAME:Cours de cuisine By Serge Labrosse
X-ORIGINAL-URL:https://dev21.cours-de-cuisine-geneve.ch
X-WR-CALDESC:évènements pour Cours de cuisine By Serge Labrosse
BEGIN:VTIMEZONE
TZID:Europe/Paris
BEGIN:DAYLIGHT
TZOFFSETFROM:+0100
TZOFFSETTO:+0200
TZNAME:CEST
DTSTART:20180325T010000
END:DAYLIGHT
BEGIN:STANDARD
TZOFFSETFROM:+0200
TZOFFSETTO:+0100
TZNAME:CET
DTSTART:20181028T010000
END:STANDARD
END:VTIMEZONE
BEGIN:VEVENT
DTSTART;TZID=Europe/Paris:20180308T190000
DTEND;TZID=Europe/Paris:20180308T220000
DTSTAMP:20260419T231323
CREATED:20180223T214249Z
LAST-MODIFIED:20180228T204034Z
UID:7390-1520535600-1520546400@dev21.cours-de-cuisine-geneve.ch
SUMMARY:Cours 100% Viande
DESCRIPTION:Parce qu’il n’y a pas que le bœuf\, cet atelier va vous proposer des recettes de viandes savoureuses et parfois un peu oubliées ! \nFoie gras poêlé puis poché au bouillon de yuzu et petits légumes\n***\nCarré d’agneau en croûte de ras el hanout\nPommade d’aubergine brûlée et vinaigrette de pois-chiche-dattes\n***\nMagret de canard à la poudre de caramel\nCrème de carottes et orange\n***\nRis de veau doré fumé au foin\nRagoût d’asperges et morilles \nLe montant de cet atelier comprend : la préparation\, le menu et 3 verres de vin
URL:https://dev21.cours-de-cuisine-geneve.ch/details/viande/
CATEGORIES:Cours de cuisine
ATTACH;FMTTYPE=image/jpeg:https://dev21.cours-de-cuisine-geneve.ch/wp-content/uploads/2018/02/red-meat-1348486_1920.jpg
ORGANIZER;CN="Ateliers%20by%20Serge%20Labrosse":MAILTO:contact@ateliersbysergelabrosse.ch
END:VEVENT
END:VCALENDAR