BEGIN:VCALENDAR
VERSION:2.0
PRODID:-//Cours de cuisine By Serge Labrosse - ECPv5.8.0//NONSGML v1.0//EN
CALSCALE:GREGORIAN
METHOD:PUBLISH
X-WR-CALNAME:Cours de cuisine By Serge Labrosse
X-ORIGINAL-URL:https://dev21.cours-de-cuisine-geneve.ch
X-WR-CALDESC:évènements pour Cours de cuisine By Serge Labrosse
BEGIN:VTIMEZONE
TZID:Europe/Paris
BEGIN:DAYLIGHT
TZOFFSETFROM:+0100
TZOFFSETTO:+0200
TZNAME:CEST
DTSTART:20190331T010000
END:DAYLIGHT
BEGIN:STANDARD
TZOFFSETFROM:+0200
TZOFFSETTO:+0100
TZNAME:CET
DTSTART:20191027T010000
END:STANDARD
END:VTIMEZONE
BEGIN:VEVENT
DTSTART;TZID=Europe/Paris:20190308T190000
DTEND;TZID=Europe/Paris:20190308T223000
DTSTAMP:20260420T030608
CREATED:20190213T171345Z
LAST-MODIFIED:20190220T111039Z
UID:9914-1552071600-1552084200@dev21.cours-de-cuisine-geneve.ch
SUMMARY:Végétarien et sans gluten\, sans lactose
DESCRIPTION:Vous désirez découvrir la cuisine végétarienne\, apprendre des recettes pour varier vos menus autour des végétaux ou manger sainement en cuisinant plus souvent des légumes\, alors participez à l’élaboration de ce menu:  \nFalafels de betterave\, Crème d’avocats à l’aneth et vinaigre de grenades \n******* \nCivet de pomme de terre et topinambours \nPain vapeur au sarrasin et graines de lin \n******* \nTarte fine meringuée aux agrumes   \nLe montant de cet atelier comprend : la préparation\, le menu et 2 verres de vins
URL:https://dev21.cours-de-cuisine-geneve.ch/details/vegetalien-et-sans-gluten/
CATEGORIES:Cours de cuisine
ATTACH;FMTTYPE=image/jpeg:https://dev21.cours-de-cuisine-geneve.ch/wp-content/uploads/2019/01/Depositphotos_220913930_xl-2015.jpg
ORGANIZER;CN="Ateliers%20by%20Serge%20Labrosse":MAILTO:contact@ateliersbysergelabrosse.ch
END:VEVENT
END:VCALENDAR