BEGIN:VCALENDAR
VERSION:2.0
PRODID:-//Cours de cuisine By Serge Labrosse - ECPv5.8.0//NONSGML v1.0//EN
CALSCALE:GREGORIAN
METHOD:PUBLISH
X-WR-CALNAME:Cours de cuisine By Serge Labrosse
X-ORIGINAL-URL:https://dev21.cours-de-cuisine-geneve.ch
X-WR-CALDESC:évènements pour Cours de cuisine By Serge Labrosse
BEGIN:VTIMEZONE
TZID:Europe/Paris
BEGIN:DAYLIGHT
TZOFFSETFROM:+0100
TZOFFSETTO:+0200
TZNAME:CEST
DTSTART:20180325T010000
END:DAYLIGHT
BEGIN:STANDARD
TZOFFSETFROM:+0200
TZOFFSETTO:+0100
TZNAME:CET
DTSTART:20181028T010000
END:STANDARD
END:VTIMEZONE
BEGIN:VEVENT
DTSTART;TZID=Europe/Paris:20180228T190000
DTEND;TZID=Europe/Paris:20180228T220000
DTSTAMP:20260419T213854
CREATED:20180130T210842Z
LAST-MODIFIED:20180130T210842Z
UID:7235-1519844400-1519855200@dev21.cours-de-cuisine-geneve.ch
SUMMARY:Autour de la Truite
DESCRIPTION:Cuisiner le poisson n’est pas une mince affaire. La truite a une chair délicate\, qu’il est possible d’accommoder de nombreuses façons. Cet atelier vous proposera des recettes et des techniques originales. \nTartare de truite\, tuile dentelle et crème légèrement prise au raifort\n Gel acidulé au pamplemousse\n ***\n Truite fumée puis pochée à la betterave\n Ravioles végétales et chips croustillantes\n ***\n Tarte au citron déstructurée \nLe montant de cet atelier comprend : la préparation\, le menu et 3 verres de vin
URL:https://dev21.cours-de-cuisine-geneve.ch/details/truite/
ATTACH;FMTTYPE=image/jpeg:https://dev21.cours-de-cuisine-geneve.ch/wp-content/uploads/2015/03/logo-Labrosse-cours-de-cuisine-1.jpg
ORGANIZER;CN="Ateliers%20by%20Serge%20Labrosse":MAILTO:contact@ateliersbysergelabrosse.ch
END:VEVENT
END:VCALENDAR