BEGIN:VCALENDAR
VERSION:2.0
PRODID:-//Cours de cuisine By Serge Labrosse - ECPv5.8.0//NONSGML v1.0//EN
CALSCALE:GREGORIAN
METHOD:PUBLISH
X-WR-CALNAME:Cours de cuisine By Serge Labrosse
X-ORIGINAL-URL:https://dev21.cours-de-cuisine-geneve.ch
X-WR-CALDESC:évènements pour Cours de cuisine By Serge Labrosse
BEGIN:VTIMEZONE
TZID:Europe/Paris
BEGIN:DAYLIGHT
TZOFFSETFROM:+0100
TZOFFSETTO:+0200
TZNAME:CEST
DTSTART:20200329T010000
END:DAYLIGHT
BEGIN:STANDARD
TZOFFSETFROM:+0200
TZOFFSETTO:+0100
TZNAME:CET
DTSTART:20201025T010000
END:STANDARD
END:VTIMEZONE
BEGIN:VEVENT
DTSTART;TZID=Europe/Paris:20200302T183000
DTEND;TZID=Europe/Paris:20200302T230000
DTSTAMP:20260419T171557
CREATED:20191209T125025Z
LAST-MODIFIED:20200226T153553Z
UID:13060-1583173800-1583190000@dev21.cours-de-cuisine-geneve.ch
SUMMARY:Tortelini et Risotto
DESCRIPTION:L’Italie est à l’honneur ! Le patrimoine culturel\, artistique\, naturel\, œnologique et gastronomique de l’Italie est le plus varié au monde. Si la cuisine française traditionnelle est considérée\, à juste titre\, comme la meilleure au monde\, la cuisine régionale italienne a des lettres de noblesse équivalentes et\, plus que toute autre\, elle est constituée d’ingrédients simples et naturels (vin\, huile d’olive\, fromages\, charcuteries\, légumes\, fruits) dont les saveurs originales sont exaltées par une préparation raffinée et sans superflus. \nVenez découvrir les secrets de préparations des pâtes et de la cuisson d’un risotto ! \nTortellini au canard et tortellini végétariens\, sauce au marsala \nrisotto de langoustine \nzuppa inglese \nLe cours coprends deux verres de vin et le café.
URL:https://dev21.cours-de-cuisine-geneve.ch/details/tortelini-et-risotto-2/
LOCATION:8 rue Prévost-Martin\, Genève\, 8 rue Prévost-Martin\, Genève\, Suisse
CATEGORIES:Aurel Termini,Cours de cuisine
ATTACH;FMTTYPE=image/jpeg:https://dev21.cours-de-cuisine-geneve.ch/wp-content/uploads/2019/12/tortelini.jpg
ORGANIZER;CN="Ateliers%20by%20Serge%20Labrosse":MAILTO:contact@ateliersbysergelabrosse.ch
END:VEVENT
END:VCALENDAR