BEGIN:VCALENDAR
VERSION:2.0
PRODID:-//Cours de cuisine By Serge Labrosse - ECPv5.8.0//NONSGML v1.0//EN
CALSCALE:GREGORIAN
METHOD:PUBLISH
X-WR-CALNAME:Cours de cuisine By Serge Labrosse
X-ORIGINAL-URL:https://dev21.cours-de-cuisine-geneve.ch
X-WR-CALDESC:évènements pour Cours de cuisine By Serge Labrosse
BEGIN:VTIMEZONE
TZID:Europe/Paris
BEGIN:DAYLIGHT
TZOFFSETFROM:+0100
TZOFFSETTO:+0200
TZNAME:CEST
DTSTART:20170326T010000
END:DAYLIGHT
BEGIN:STANDARD
TZOFFSETFROM:+0200
TZOFFSETTO:+0100
TZNAME:CET
DTSTART:20171029T010000
END:STANDARD
END:VTIMEZONE
BEGIN:VEVENT
DTSTART;TZID=Europe/Paris:20171004T190000
DTEND;TZID=Europe/Paris:20171004T220000
DTSTAMP:20260420T043343
CREATED:20170620T112349Z
LAST-MODIFIED:20170620T112349Z
UID:5582-1507143600-1507154400@dev21.cours-de-cuisine-geneve.ch
SUMMARY:Tapas
DESCRIPTION:Nous vous proposons un cours autour de petites bouchées gourmandes et originales afin de vous régaler lors de vos apéritifs ou buffet. \nAu menu : \nMaki de quinoa et daurade à la mangue\n…\nCromesquis de canard confit et crème de carottes\n…\nVichyssoise au siphon\, crôutons et râpée de gruyère\n…\nMille-feuilles de féra fumée et crème d’oignons doux\n…\nRisotto parfumé à la truffe\, fine tranches de boeuf et burrata\n…\nNems de banane et chocolat \nCompris dans ce tarif : La préparation et la dégustation des mets\, 3 verres de vins.
URL:https://dev21.cours-de-cuisine-geneve.ch/details/tapas-5/
CATEGORIES:Cours de cuisine
ATTACH;FMTTYPE=image/jpeg:https://dev21.cours-de-cuisine-geneve.ch/wp-content/uploads/2017/05/ateliers-cuisine-geneve.jpg
ORGANIZER;CN="Ateliers%20by%20Serge%20Labrosse":MAILTO:contact@ateliersbysergelabrosse.ch
END:VEVENT
END:VCALENDAR