BEGIN:VCALENDAR
VERSION:2.0
PRODID:-//Cours de cuisine By Serge Labrosse - ECPv5.8.0//NONSGML v1.0//EN
CALSCALE:GREGORIAN
METHOD:PUBLISH
X-WR-CALNAME:Cours de cuisine By Serge Labrosse
X-ORIGINAL-URL:https://dev21.cours-de-cuisine-geneve.ch
X-WR-CALDESC:évènements pour Cours de cuisine By Serge Labrosse
BEGIN:VTIMEZONE
TZID:Europe/Paris
BEGIN:DAYLIGHT
TZOFFSETFROM:+0100
TZOFFSETTO:+0200
TZNAME:CEST
DTSTART:20170326T010000
END:DAYLIGHT
BEGIN:STANDARD
TZOFFSETFROM:+0200
TZOFFSETTO:+0100
TZNAME:CET
DTSTART:20171029T010000
END:STANDARD
END:VTIMEZONE
BEGIN:VEVENT
DTSTART;TZID=Europe/Paris:20170829T190000
DTEND;TZID=Europe/Paris:20170829T220000
DTSTAMP:20260420T040702
CREATED:20170616T121714Z
LAST-MODIFIED:20170616T121857Z
UID:5468-1504033200-1504044000@dev21.cours-de-cuisine-geneve.ch
SUMMARY:Tapas
DESCRIPTION:Nous vous proposons un cours autour de petites bouchées gourmandes et originales afin de vous régaler lors de vos apéritifs ou buffet. \nAu menu : \nTataki de canard et concombre mariné \nRoulé de saumon fumé au fromage frais\, sauce gravlax \nRaviole Gyoza\, bouillon au curry et crevettes \n  \nFoie gras poêlé\, compotée de fraises et polenta \nFine tartelettes d’aubergines et maquereau brûlé \nVous apprendrez : \n-Réaliser des marinades faciles et délicieuses\n– Poêlé du foie gras de canard comme un chef\n– Faire de petites bouchées originales et gourmandes \nCompris dans ce tarif : La préparation et la dégustation des mets\, 3 verres de vins.
URL:https://dev21.cours-de-cuisine-geneve.ch/details/tapas-2/
CATEGORIES:Cours de cuisine
ATTACH;FMTTYPE=image/jpeg:https://dev21.cours-de-cuisine-geneve.ch/wp-content/uploads/2015/03/1927_dl_photo3_2e353.jpg
ORGANIZER;CN="Ateliers%20by%20Serge%20Labrosse":MAILTO:contact@ateliersbysergelabrosse.ch
END:VEVENT
END:VCALENDAR