BEGIN:VCALENDAR
VERSION:2.0
PRODID:-//Cours de cuisine By Serge Labrosse - ECPv5.8.0//NONSGML v1.0//EN
CALSCALE:GREGORIAN
METHOD:PUBLISH
X-WR-CALNAME:Cours de cuisine By Serge Labrosse
X-ORIGINAL-URL:https://dev21.cours-de-cuisine-geneve.ch
X-WR-CALDESC:évènements pour Cours de cuisine By Serge Labrosse
BEGIN:VTIMEZONE
TZID:Europe/Paris
BEGIN:DAYLIGHT
TZOFFSETFROM:+0100
TZOFFSETTO:+0200
TZNAME:CEST
DTSTART:20170326T010000
END:DAYLIGHT
BEGIN:STANDARD
TZOFFSETFROM:+0200
TZOFFSETTO:+0100
TZNAME:CET
DTSTART:20171029T010000
END:STANDARD
END:VTIMEZONE
BEGIN:VEVENT
DTSTART;TZID=Europe/Paris:20171003T190000
DTEND;TZID=Europe/Paris:20171003T220000
DTSTAMP:20260420T113045
CREATED:20170620T104451Z
LAST-MODIFIED:20171002T094718Z
UID:5563-1507057200-1507068000@dev21.cours-de-cuisine-geneve.ch
SUMMARY:Risotto\, Gnocchi et Ravioles
DESCRIPTION:Partez à la conquête de ces plats emblématiques d’Italie. Nous les cuisinerons à notre façon afin de vous faire découvrir de nouvelles astuces. \nAu menu : \nRavioles de foie gras et bouillon thaï\n…\nGnocchi à la châtaigne\, poudre de jambon et crème de butternut\n…\nRisotto à la truffe et burrata \nVous apprendrez : \n-Comment réalisé une pâte à raviole\n– Faire des gnocchis maison\n-Réussir un risotto à coup sûr \nCompris dans ce tarif : La préparation et la dégustation des mets\, 3 verres de vins.
URL:https://dev21.cours-de-cuisine-geneve.ch/details/risotto-gnocchis-et-ravioles-2/
CATEGORIES:Cours de cuisine
ATTACH;FMTTYPE=image/jpeg:https://dev21.cours-de-cuisine-geneve.ch/wp-content/uploads/2017/05/cours-cuisine-italienne-geneve.jpg
ORGANIZER;CN="Ateliers%20by%20Serge%20Labrosse":MAILTO:contact@ateliersbysergelabrosse.ch
END:VEVENT
END:VCALENDAR