BEGIN:VCALENDAR
VERSION:2.0
PRODID:-//Cours de cuisine By Serge Labrosse - ECPv5.8.0//NONSGML v1.0//EN
CALSCALE:GREGORIAN
METHOD:PUBLISH
X-WR-CALNAME:Cours de cuisine By Serge Labrosse
X-ORIGINAL-URL:https://dev21.cours-de-cuisine-geneve.ch
X-WR-CALDESC:évènements pour Cours de cuisine By Serge Labrosse
BEGIN:VTIMEZONE
TZID:Europe/Paris
BEGIN:DAYLIGHT
TZOFFSETFROM:+0100
TZOFFSETTO:+0200
TZNAME:CEST
DTSTART:20180325T010000
END:DAYLIGHT
BEGIN:STANDARD
TZOFFSETFROM:+0200
TZOFFSETTO:+0100
TZNAME:CET
DTSTART:20181028T010000
END:STANDARD
END:VTIMEZONE
BEGIN:VEVENT
DTSTART;TZID=Europe/Paris:20180601T190000
DTEND;TZID=Europe/Paris:20180601T220000
DTSTAMP:20260420T095400
CREATED:20180409T134117Z
LAST-MODIFIED:20180409T134117Z
UID:7798-1527879600-1527890400@dev21.cours-de-cuisine-geneve.ch
SUMMARY:Risotto\, gnocchi et ravioles
DESCRIPTION:Partez à la conquête de plats emblématiques italiens que nous cuisinerons à notre façon afin de vous faire découvrir de nouvelles astuces. \nGnocchis express\, crème vertes\, crevettes tandoori et pickles\n ***\nRavioles au confit de veau\, siphon de parmesan et morilles\n ***\nRisotto à l’encre de seiche\, calamaretti sautés et chorizo \nVous apprendrez : \n\ncomment réaliser une pâte à raviole\nà faire des gnocchis maison\nà réussir un risotto à coup sûr\n\nLe montant de l’atelier comprend : la préparation\, le menu et 3 verres de vins.
URL:https://dev21.cours-de-cuisine-geneve.ch/details/risotto-gnocchi-ravioles-4/
CATEGORIES:Cours de cuisine
ATTACH;FMTTYPE=image/jpeg:https://dev21.cours-de-cuisine-geneve.ch/wp-content/uploads/2017/05/cours-cuisine-italienne-gnocchi-geneve.jpg
ORGANIZER;CN="Ateliers%20by%20Serge%20Labrosse":MAILTO:contact@ateliersbysergelabrosse.ch
END:VEVENT
END:VCALENDAR