BEGIN:VCALENDAR
VERSION:2.0
PRODID:-//Cours de cuisine By Serge Labrosse - ECPv5.8.0//NONSGML v1.0//EN
CALSCALE:GREGORIAN
METHOD:PUBLISH
X-WR-CALNAME:Cours de cuisine By Serge Labrosse
X-ORIGINAL-URL:https://dev21.cours-de-cuisine-geneve.ch
X-WR-CALDESC:évènements pour Cours de cuisine By Serge Labrosse
BEGIN:VTIMEZONE
TZID:Europe/Paris
BEGIN:DAYLIGHT
TZOFFSETFROM:+0100
TZOFFSETTO:+0200
TZNAME:CEST
DTSTART:20180325T010000
END:DAYLIGHT
BEGIN:STANDARD
TZOFFSETFROM:+0200
TZOFFSETTO:+0100
TZNAME:CET
DTSTART:20181028T010000
END:STANDARD
END:VTIMEZONE
BEGIN:VEVENT
DTSTART;TZID=Europe/Paris:20181116T190000
DTEND;TZID=Europe/Paris:20181116T220000
DTSTAMP:20260420T021639
CREATED:20180720T105014Z
LAST-MODIFIED:20180720T105014Z
UID:8444-1542394800-1542405600@dev21.cours-de-cuisine-geneve.ch
SUMMARY:Ravioles\, risotto et gnocchis
DESCRIPTION:Partez à la conquête de plats emblématiques italiens que nous cuisinerons à notre façon afin de vous faire découvrir de nouvelles astuces. \nTortellini au confit de bœuf et foie-gras\, crème de topinambours\, champignons et noisettes\n…\nRisotto à la courge butternut\, Amaretti et mostarda di cremona\n…\nGnocchis au parfum de truffe\, crémeux au parmesan \n\nVous apprendrez : \n\ncomment réaliser une pâte à raviole\nà faire des gnocchis maison\nà réussir un risotto à coup sûr\n\nLe montant de l’atelier comprend : la préparation\, le menu et 3 verres de vins.
URL:https://dev21.cours-de-cuisine-geneve.ch/details/ravioles-risotto-et-gnocchis-3/
CATEGORIES:Cours de cuisine
ATTACH;FMTTYPE=image/jpeg:https://dev21.cours-de-cuisine-geneve.ch/wp-content/uploads/2017/05/cours-cuisine-italienne-gnocchi-geneve.jpg
ORGANIZER;CN="Ateliers%20by%20Serge%20Labrosse":MAILTO:contact@ateliersbysergelabrosse.ch
END:VEVENT
END:VCALENDAR