BEGIN:VCALENDAR
VERSION:2.0
PRODID:-//Cours de cuisine By Serge Labrosse - ECPv5.8.0//NONSGML v1.0//EN
CALSCALE:GREGORIAN
METHOD:PUBLISH
X-WR-CALNAME:Cours de cuisine By Serge Labrosse
X-ORIGINAL-URL:https://dev21.cours-de-cuisine-geneve.ch
X-WR-CALDESC:évènements pour Cours de cuisine By Serge Labrosse
BEGIN:VTIMEZONE
TZID:Europe/Paris
BEGIN:DAYLIGHT
TZOFFSETFROM:+0100
TZOFFSETTO:+0200
TZNAME:CEST
DTSTART:20180325T010000
END:DAYLIGHT
BEGIN:STANDARD
TZOFFSETFROM:+0200
TZOFFSETTO:+0100
TZNAME:CET
DTSTART:20181028T010000
END:STANDARD
END:VTIMEZONE
BEGIN:VEVENT
DTSTART;TZID=Europe/Paris:20180428T103000
DTEND;TZID=Europe/Paris:20180428T130000
DTSTAMP:20260420T054058
CREATED:20180304T191831Z
LAST-MODIFIED:20180304T191901Z
UID:7551-1524911400-1524920400@dev21.cours-de-cuisine-geneve.ch
SUMMARY:Cours Pâtisserie - 100% Rhubarbe
DESCRIPTION:La rhubarbe est un fruit acidulé qui peut être consommé cru\, cuit\, en tartes\, en confiture ou comme légume. Notre Chef Pâtissier Hans Gaillet va vous transmettre des techniques et des recettes pour apprêter ce fruit avec goût\, sans le dénaturer.
URL:https://dev21.cours-de-cuisine-geneve.ch/details/patisserie-rhubarbe/
CATEGORIES:Cours pâtisserie
ATTACH;FMTTYPE=image/jpeg:https://dev21.cours-de-cuisine-geneve.ch/wp-content/uploads/2018/03/rhubarb-318217_1920.jpg
ORGANIZER;CN="Ateliers%20by%20Serge%20Labrosse":MAILTO:contact@ateliersbysergelabrosse.ch
END:VEVENT
END:VCALENDAR