BEGIN:VCALENDAR
VERSION:2.0
PRODID:-//Cours de cuisine By Serge Labrosse - ECPv5.8.0//NONSGML v1.0//EN
CALSCALE:GREGORIAN
METHOD:PUBLISH
X-WR-CALNAME:Cours de cuisine By Serge Labrosse
X-ORIGINAL-URL:https://dev21.cours-de-cuisine-geneve.ch
X-WR-CALDESC:évènements pour Cours de cuisine By Serge Labrosse
BEGIN:VTIMEZONE
TZID:Europe/Paris
BEGIN:DAYLIGHT
TZOFFSETFROM:+0100
TZOFFSETTO:+0200
TZNAME:CEST
DTSTART:20200329T010000
END:DAYLIGHT
BEGIN:STANDARD
TZOFFSETFROM:+0200
TZOFFSETTO:+0100
TZNAME:CET
DTSTART:20201025T010000
END:STANDARD
END:VTIMEZONE
BEGIN:VEVENT
DTSTART;TZID=Europe/Paris:20200108T140000
DTEND;TZID=Europe/Paris:20200108T170000
DTSTAMP:20260419T184410
CREATED:20191209T123211Z
LAST-MODIFIED:20191209T123605Z
UID:13042-1578492000-1578502800@dev21.cours-de-cuisine-geneve.ch
SUMMARY:patisserie: les tartes
DESCRIPTION:On se dit tous « Je vais faire une petite tarte ce soir« . Mais savez vous vraiment comment bien les réussir ? Savez vous faire la pâte et obtenir un résultat optimum à la sortie du four\, bref\, savez vous faire une tarte digne des meilleures boulangeries? \nSi ce n’est pas le cas\, pas de panique\, venez aux ateliers pour apprendre les pâtes de bases. \n  \n\ntarte bourdaloue\, pâte sablée\ntarte salé: pâte à foncer.\ntarte tatin: pâte brisée\n\n  \nCe cours est destiné aussi bien aux enfants qu’aux adultes.
URL:https://dev21.cours-de-cuisine-geneve.ch/details/patisserie-les-tartes/
LOCATION:8 rue Prévost-Martin\, Genève\, 8 rue Prévost-Martin\, Genève\, Suisse
CATEGORIES:Aurel Termini,Cours pâtisserie
ATTACH;FMTTYPE=image/jpeg:https://dev21.cours-de-cuisine-geneve.ch/wp-content/uploads/2019/12/tarte.jpg
ORGANIZER;CN="Ateliers%20by%20Serge%20Labrosse":MAILTO:contact@ateliersbysergelabrosse.ch
END:VEVENT
END:VCALENDAR