BEGIN:VCALENDAR
VERSION:2.0
PRODID:-//Cours de cuisine By Serge Labrosse - ECPv5.8.0//NONSGML v1.0//EN
CALSCALE:GREGORIAN
METHOD:PUBLISH
X-WR-CALNAME:Cours de cuisine By Serge Labrosse
X-ORIGINAL-URL:https://dev21.cours-de-cuisine-geneve.ch
X-WR-CALDESC:évènements pour Cours de cuisine By Serge Labrosse
BEGIN:VTIMEZONE
TZID:Europe/Paris
BEGIN:DAYLIGHT
TZOFFSETFROM:+0100
TZOFFSETTO:+0200
TZNAME:CEST
DTSTART:20190331T010000
END:DAYLIGHT
BEGIN:STANDARD
TZOFFSETFROM:+0200
TZOFFSETTO:+0100
TZNAME:CET
DTSTART:20191027T010000
END:STANDARD
END:VTIMEZONE
BEGIN:VEVENT
DTSTART;TZID=Europe/Paris:20190216T100000
DTEND;TZID=Europe/Paris:20190216T123000
DTSTAMP:20260419T153116
CREATED:20190131T120651Z
LAST-MODIFIED:20190131T152757Z
UID:9752-1550311200-1550320200@dev21.cours-de-cuisine-geneve.ch
SUMMARY:Macarons et Tiramisu des grands chefs
DESCRIPTION:Vous désirez découvrir les étapes de réalisation des arts sucrés ou perfectionner vos techniques en pâtisserie. \nDans une ambiance conviviale et gourmande\, notre Cheffe Pâtissière\, Laure Platiau\,  propose cet atelier dans lequel vous apprendrez à maîtriser les recettes proposées et élaborées pas à pas. \nVous pourrez emmener chez vous les préparations finales afin de les déguster en famille ou entre amis. \nLe montant de l’atelier comprend : la préparation\, les réalisations à emmener chez soi et un verre de vin d’accueil.
URL:https://dev21.cours-de-cuisine-geneve.ch/details/macarons-et-tiramisu-des-grands-chefs/
LOCATION:Laure Platiau\, Rue Prévost Martin 8\, Genève\, 1205\, Suisse
CATEGORIES:Cours pâtisserie,Laure Platiau
ATTACH;FMTTYPE=image/jpeg:https://dev21.cours-de-cuisine-geneve.ch/wp-content/uploads/2019/01/IMG_7387.jpg
ORGANIZER;CN="Ateliers%20by%20Serge%20Labrosse":MAILTO:contact@ateliersbysergelabrosse.ch
END:VEVENT
END:VCALENDAR