BEGIN:VCALENDAR
VERSION:2.0
PRODID:-//Cours de cuisine By Serge Labrosse - ECPv5.8.0//NONSGML v1.0//EN
CALSCALE:GREGORIAN
METHOD:PUBLISH
X-WR-CALNAME:Cours de cuisine By Serge Labrosse
X-ORIGINAL-URL:https://dev21.cours-de-cuisine-geneve.ch
X-WR-CALDESC:évènements pour Cours de cuisine By Serge Labrosse
BEGIN:VTIMEZONE
TZID:Europe/Paris
BEGIN:DAYLIGHT
TZOFFSETFROM:+0100
TZOFFSETTO:+0200
TZNAME:CEST
DTSTART:20190331T010000
END:DAYLIGHT
BEGIN:STANDARD
TZOFFSETFROM:+0200
TZOFFSETTO:+0100
TZNAME:CET
DTSTART:20191027T010000
END:STANDARD
END:VTIMEZONE
BEGIN:VEVENT
DTSTART;TZID=Europe/Paris:20190309T100000
DTEND;TZID=Europe/Paris:20190309T123000
DTSTAMP:20260420T005433
CREATED:20190218T131559Z
LAST-MODIFIED:20190219T135315Z
UID:10052-1552125600-1552134600@dev21.cours-de-cuisine-geneve.ch
SUMMARY:Royal chocolat et Entremet exotique
DESCRIPTION:A travers\, l’apprentissage de gestes professionnels et de quelques astuces vous parviendrez à réaliser ces desserts à la perfection chez vous. \nNotre Cheffe Pâtissière\, Laure Platiau\, vous accueillera au sein de nos ateliers pour partager sa passion. \nVous réaliserez ensemble\, étape par étape\, les diverses techniques qui permettent aux pâtissiers de garnir leur vitrine de ces merveilleuses gourmandises. \nVous pourrez l’emmener afin de le déguster en famille ou entre amis et le support de cours vous permettra de reproduire les recettes. \nLe montant de l’atelier comprend : la préparation\, les réalisations à emmener chez soi et un verre de vin d’accueil.
URL:https://dev21.cours-de-cuisine-geneve.ch/details/macarons-et-tiramisu-des-grands-chefs-2-2-2-2-2-2/
LOCATION:Laure Platiau\, Rue Prévost Martin 8\, Genève\, 1205\, Suisse
CATEGORIES:Cours pâtisserie,Laure Platiau
ATTACH;FMTTYPE=image/jpeg:https://dev21.cours-de-cuisine-geneve.ch/wp-content/uploads/2019/02/recette-royal-chocolat.jpg
ORGANIZER;CN="Ateliers%20by%20Serge%20Labrosse":MAILTO:contact@ateliersbysergelabrosse.ch
END:VEVENT
END:VCALENDAR