BEGIN:VCALENDAR
VERSION:2.0
PRODID:-//Cours de cuisine By Serge Labrosse - ECPv5.8.0//NONSGML v1.0//EN
CALSCALE:GREGORIAN
METHOD:PUBLISH
X-WR-CALNAME:Cours de cuisine By Serge Labrosse
X-ORIGINAL-URL:https://dev21.cours-de-cuisine-geneve.ch
X-WR-CALDESC:évènements pour Cours de cuisine By Serge Labrosse
BEGIN:VTIMEZONE
TZID:Europe/Paris
BEGIN:DAYLIGHT
TZOFFSETFROM:+0100
TZOFFSETTO:+0200
TZNAME:CEST
DTSTART:20190331T010000
END:DAYLIGHT
BEGIN:STANDARD
TZOFFSETFROM:+0200
TZOFFSETTO:+0100
TZNAME:CET
DTSTART:20191027T010000
END:STANDARD
END:VTIMEZONE
BEGIN:VEVENT
DTSTART;TZID=Europe/Paris:20191127T140000
DTEND;TZID=Europe/Paris:20191127T163000
DTSTAMP:20260419T202600
CREATED:20191022T110503Z
LAST-MODIFIED:20191022T110503Z
UID:12765-1574863200-1574872200@dev21.cours-de-cuisine-geneve.ch
SUMMARY:Les Tartes
DESCRIPTION:  \nAtelier pas-à-pas spécialement conçue pour les enfants comme les adultes\, dans une atmosphère ludique ! \nLaissez s’exprimer votre créativité ! Emportez le résultat chez vous ! \n  \nTartes Pistache-Ananas \nTarte Bourdaloue \nTarte au Châtaignes
URL:https://dev21.cours-de-cuisine-geneve.ch/details/les-tartes-2/
LOCATION:8 rue Prévost-Martin\, Genève\, 8 rue Prévost-Martin\, Genève\, Suisse
CATEGORIES:Aurel Termini,Cours de cuisine,Cours enfants
ATTACH;FMTTYPE=image/jpeg:https://dev21.cours-de-cuisine-geneve.ch/wp-content/uploads/2019/10/pie-4203785_1280.jpg
END:VEVENT
END:VCALENDAR