BEGIN:VCALENDAR
VERSION:2.0
PRODID:-//Cours de cuisine By Serge Labrosse - ECPv5.8.0//NONSGML v1.0//EN
CALSCALE:GREGORIAN
METHOD:PUBLISH
X-WR-CALNAME:Cours de cuisine By Serge Labrosse
X-ORIGINAL-URL:https://dev21.cours-de-cuisine-geneve.ch
X-WR-CALDESC:évènements pour Cours de cuisine By Serge Labrosse
BEGIN:VTIMEZONE
TZID:Europe/Paris
BEGIN:DAYLIGHT
TZOFFSETFROM:+0100
TZOFFSETTO:+0200
TZNAME:CEST
DTSTART:20190331T010000
END:DAYLIGHT
BEGIN:STANDARD
TZOFFSETFROM:+0200
TZOFFSETTO:+0100
TZNAME:CET
DTSTART:20191027T010000
END:STANDARD
END:VTIMEZONE
BEGIN:VEVENT
DTSTART;TZID=Europe/Paris:20191017T183000
DTEND;TZID=Europe/Paris:20191017T223000
DTSTAMP:20260419T234600
CREATED:20190925T110135Z
LAST-MODIFIED:20190925T132744Z
UID:12483-1571337000-1571351400@dev21.cours-de-cuisine-geneve.ch
SUMMARY:Les pâtes\, les risottos et les gnocchis
DESCRIPTION:L’Italie est à l’honneur ! Le patrimoine culturel\, artistique\, naturel\, œnologique et gastronomique de l’Italie est le plus varié au monde. Si la cuisine française traditionnelle est considérée\, à juste titre\, comme la meilleure au monde\, la cuisine régionale italienne a des lettres de noblesse équivalentes et\, plus que toute autre\, elle est constituée d’ingrédients simples et naturels (vin\, huile d’olive\, fromages\, charcuteries\, légumes\, fruits) dont les saveurs originales sont exaltées par une préparation raffinée et sans superflus. \nVenez découvrir les secrets de préparations des pâtes\, de la confection des gnocchis et de la cuisson d’un risotto ! \n  \nTagliatelles aux cèpes et fèves\, montées au parmesan. \nRisotto safrané et haddock. \nGnocchis butternut et sauge \nTorta della nonna \n  \n  \nLe cours est dirigé par Aurel Termini\, français d’origine sicilienne. \nLe cours comprends deux verres de vin. \n  \n 
URL:https://dev21.cours-de-cuisine-geneve.ch/details/les-pates-les-risottos-et-les-gnocchis/
LOCATION:8 rue Prévost-Martin\, Genève\, 8 rue Prévost-Martin\, Genève\, Suisse
CATEGORIES:Aurel Termini,Cours de cuisine
ATTACH;FMTTYPE=image/jpeg:https://dev21.cours-de-cuisine-geneve.ch/wp-content/uploads/2019/09/pâte.jpg
ORGANIZER;CN="Ateliers%20by%20Serge%20Labrosse":MAILTO:contact@ateliersbysergelabrosse.ch
END:VEVENT
END:VCALENDAR