BEGIN:VCALENDAR
VERSION:2.0
PRODID:-//Cours de cuisine By Serge Labrosse - ECPv5.8.0//NONSGML v1.0//EN
CALSCALE:GREGORIAN
METHOD:PUBLISH
X-WR-CALNAME:Cours de cuisine By Serge Labrosse
X-ORIGINAL-URL:https://dev21.cours-de-cuisine-geneve.ch
X-WR-CALDESC:évènements pour Cours de cuisine By Serge Labrosse
BEGIN:VTIMEZONE
TZID:Europe/Paris
BEGIN:DAYLIGHT
TZOFFSETFROM:+0100
TZOFFSETTO:+0200
TZNAME:CEST
DTSTART:20200329T010000
END:DAYLIGHT
BEGIN:STANDARD
TZOFFSETFROM:+0200
TZOFFSETTO:+0100
TZNAME:CET
DTSTART:20201025T010000
END:STANDARD
END:VTIMEZONE
BEGIN:VEVENT
DTSTART;TZID=Europe/Paris:20200402T183000
DTEND;TZID=Europe/Paris:20200402T223000
DTSTAMP:20260419T154150
CREATED:20200104T163736Z
LAST-MODIFIED:20200226T155329Z
UID:13419-1585852200-1585866600@dev21.cours-de-cuisine-geneve.ch
SUMMARY:Les matières grasses
DESCRIPTION:Ce cours est destiné à la compréhension des matières grasses. Nous débuterons avec notre invité Sergio Panzarella\, producteur d’huile d’olive qui nous fera déguster plusieurs huiles différentes. Nous ferons ensuite une dégustation de différents beurres. Enfin nous présenterons un ensemble de matière grasse et leur spécificité…. Puis\, \nPuis nous rangerons tout ! et nous cuisinerons sans aucune matière grasse. Aucune. Ce cours est également un challenge\, comment trouver du goût sans huile\, beurre ou crème. Le but étant bien évidemment de ne pas faire de cuisine vapeur… \nLe menu \nCarottes et baies\, leche de tigre. \nPoulet en croûte de sel\, chips de peau croustillante\, panais grillé\, sauce choux fleur-chocolat blanc. \nMangue potiron-chocolat \n  \n  \nLe cours comprends deux verres de vin.
URL:https://dev21.cours-de-cuisine-geneve.ch/details/les-matieres-grasses/
LOCATION:8 rue Prévost-Martin\, Genève\, 8 rue Prévost-Martin\, Genève\, Suisse
CATEGORIES:Aurel Termini,Cours de cuisine
ATTACH;FMTTYPE=image/jpeg:https://dev21.cours-de-cuisine-geneve.ch/wp-content/uploads/2020/01/huile.jpg
ORGANIZER;CN="Ateliers%20by%20Serge%20Labrosse":MAILTO:contact@ateliersbysergelabrosse.ch
END:VEVENT
END:VCALENDAR