BEGIN:VCALENDAR
VERSION:2.0
PRODID:-//Cours de cuisine By Serge Labrosse - ECPv5.8.0//NONSGML v1.0//EN
CALSCALE:GREGORIAN
METHOD:PUBLISH
X-WR-CALNAME:Cours de cuisine By Serge Labrosse
X-ORIGINAL-URL:https://dev21.cours-de-cuisine-geneve.ch
X-WR-CALDESC:évènements pour Cours de cuisine By Serge Labrosse
BEGIN:VTIMEZONE
TZID:Europe/Paris
BEGIN:DAYLIGHT
TZOFFSETFROM:+0100
TZOFFSETTO:+0200
TZNAME:CEST
DTSTART:20190331T010000
END:DAYLIGHT
BEGIN:STANDARD
TZOFFSETFROM:+0200
TZOFFSETTO:+0100
TZNAME:CET
DTSTART:20191027T010000
END:STANDARD
END:VTIMEZONE
BEGIN:VEVENT
DTSTART;TZID=Europe/Paris:20191210T173000
DTEND;TZID=Europe/Paris:20191210T230000
DTSTAMP:20260419T214218
CREATED:20191021T160334Z
LAST-MODIFIED:20191127T102807Z
UID:12721-1575999000-1576018800@dev21.cours-de-cuisine-geneve.ch
SUMMARY:Le Foie Gras
DESCRIPTION:Les fêtes approchent\, mais vous ne vous sentez pas à l’aise dans votre préparation de foie gras? cet atelier est fait pour vous. \nPréparation du foie gras de Canard au torchon et dégustation de différentes préparations du foie gras. \nComprends le cours et deux verres de sauternes.
URL:https://dev21.cours-de-cuisine-geneve.ch/details/le-foie-gras-2/
LOCATION:8 rue Prévost-Martin\, Genève\, 8 rue Prévost-Martin\, Genève\, Suisse
CATEGORIES:Aurel Termini,Cours de cuisine
ATTACH;FMTTYPE=image/jpeg:https://dev21.cours-de-cuisine-geneve.ch/wp-content/uploads/2019/10/fatty-liver-2531243_1280.jpg
ORGANIZER;CN="Ateliers%20by%20Serge%20Labrosse":MAILTO:contact@ateliersbysergelabrosse.ch
END:VEVENT
END:VCALENDAR