BEGIN:VCALENDAR
VERSION:2.0
PRODID:-//Cours de cuisine By Serge Labrosse - ECPv5.8.0//NONSGML v1.0//EN
CALSCALE:GREGORIAN
METHOD:PUBLISH
X-WR-CALNAME:Cours de cuisine By Serge Labrosse
X-ORIGINAL-URL:https://dev21.cours-de-cuisine-geneve.ch
X-WR-CALDESC:évènements pour Cours de cuisine By Serge Labrosse
BEGIN:VTIMEZONE
TZID:Europe/Paris
BEGIN:DAYLIGHT
TZOFFSETFROM:+0100
TZOFFSETTO:+0200
TZNAME:CEST
DTSTART:20180325T010000
END:DAYLIGHT
BEGIN:STANDARD
TZOFFSETFROM:+0200
TZOFFSETTO:+0100
TZNAME:CET
DTSTART:20181028T010000
END:STANDARD
END:VTIMEZONE
BEGIN:VEVENT
DTSTART;TZID=Europe/Paris:20180704T190000
DTEND;TZID=Europe/Paris:20180704T223000
DTSTAMP:20260420T044556
CREATED:20180613T121335Z
LAST-MODIFIED:20180613T121335Z
UID:8279-1530730800-1530743400@dev21.cours-de-cuisine-geneve.ch
SUMMARY:La Table d'hôte des Ateliers à la Chaumière
DESCRIPTION:Cet été nous vous proposons un repas unique autour de fromages d’exception\,  7 plats surprises associés à 7 vins du domaine de Sophie Dugerdil. \nEn compagnie de Sophie Dugerdil et Dominiquer Ryser\, venez découvrir un délicieux menu concocter par le chef Jeremy Schambacher et Serge Labrosse. \nUne table d’hôte de maximum 14 couverts pour un moment convivial\, gourmand et unique. \nDébut du repas à 19h00 \nLieux:  La Chaumière: Chemin de la Fondelle 16\, 1256 Troinex \nPrix: CHF 185.00/ personnes Menu 7 plats/ 7 Vins
URL:https://dev21.cours-de-cuisine-geneve.ch/details/la-table-dhote-des-ateliers-a-la-chaumiere-2/
ATTACH;FMTTYPE=image/jpeg:https://dev21.cours-de-cuisine-geneve.ch/wp-content/uploads/2018/03/drinks-1283608_1920.jpg
ORGANIZER;CN="Ateliers%20by%20Serge%20Labrosse":MAILTO:contact@ateliersbysergelabrosse.ch
END:VEVENT
END:VCALENDAR