BEGIN:VCALENDAR
VERSION:2.0
PRODID:-//Cours de cuisine By Serge Labrosse - ECPv5.8.0//NONSGML v1.0//EN
CALSCALE:GREGORIAN
METHOD:PUBLISH
X-WR-CALNAME:Cours de cuisine By Serge Labrosse
X-ORIGINAL-URL:https://dev21.cours-de-cuisine-geneve.ch
X-WR-CALDESC:évènements pour Cours de cuisine By Serge Labrosse
BEGIN:VTIMEZONE
TZID:Europe/Paris
BEGIN:DAYLIGHT
TZOFFSETFROM:+0100
TZOFFSETTO:+0200
TZNAME:CEST
DTSTART:20200329T010000
END:DAYLIGHT
BEGIN:STANDARD
TZOFFSETFROM:+0200
TZOFFSETTO:+0100
TZNAME:CET
DTSTART:20201025T010000
END:STANDARD
END:VTIMEZONE
BEGIN:VEVENT
DTSTART;TZID=Europe/Paris:20200208T183000
DTEND;TZID=Europe/Paris:20200208T223000
DTSTAMP:20260419T185224
CREATED:20200106T182434Z
LAST-MODIFIED:20200106T201026Z
UID:13471-1581186600-1581201000@dev21.cours-de-cuisine-geneve.ch
SUMMARY:La cuisine Thaï : le Sud
DESCRIPTION:Mondialement connue\, la cuisine Thaïlandaise enchante les sens. Épices\, herbes et aromates se marient aux fruits\, légumes\, viandes et poissons pour titiller les palais. La Thaïlande est véritablement un restaurant à ciel ouvert. \nCe cours seraexclusivement consacré à la cuisine thaïlandaise du Sud. Attention CUISINE EPICEE. \nNous préparerons les plats suivants avant de les déguster: \n  \nKhao yam : salade de riz aux crevettes et au fruits \nPad Krapaw: porc au basilic \nCurry rouge – canard – ananas \nRoti (petite crêpe Thaï) – mangue- banane-chrysanthème \n 
URL:https://dev21.cours-de-cuisine-geneve.ch/details/la-cuisine-thai-le-sud/
LOCATION:8 rue Prévost-Martin\, Genève\, 8 rue Prévost-Martin\, Genève\, Suisse
CATEGORIES:Aurel Termini,Cours de cuisine
ATTACH;FMTTYPE=image/jpeg:https://dev21.cours-de-cuisine-geneve.ch/wp-content/uploads/2019/09/thai-nord.jpg
ORGANIZER;CN="Ateliers%20by%20Serge%20Labrosse":MAILTO:contact@ateliersbysergelabrosse.ch
END:VEVENT
END:VCALENDAR