BEGIN:VCALENDAR
VERSION:2.0
PRODID:-//Cours de cuisine By Serge Labrosse - ECPv5.8.0//NONSGML v1.0//EN
CALSCALE:GREGORIAN
METHOD:PUBLISH
X-WR-CALNAME:Cours de cuisine By Serge Labrosse
X-ORIGINAL-URL:https://dev21.cours-de-cuisine-geneve.ch
X-WR-CALDESC:évènements pour Cours de cuisine By Serge Labrosse
BEGIN:VTIMEZONE
TZID:Europe/Paris
BEGIN:DAYLIGHT
TZOFFSETFROM:+0100
TZOFFSETTO:+0200
TZNAME:CEST
DTSTART:20190331T010000
END:DAYLIGHT
BEGIN:STANDARD
TZOFFSETFROM:+0200
TZOFFSETTO:+0100
TZNAME:CET
DTSTART:20191027T010000
END:STANDARD
END:VTIMEZONE
BEGIN:VEVENT
DTSTART;TZID=Europe/Paris:20191022T183000
DTEND;TZID=Europe/Paris:20191022T223000
DTSTAMP:20260419T235238
CREATED:20190925T120101Z
LAST-MODIFIED:20190925T131944Z
UID:12496-1571769000-1571783400@dev21.cours-de-cuisine-geneve.ch
SUMMARY:La cuisine Thaï: Le Nord et L'Isaan
DESCRIPTION:Mondialement connue\, la cuisine Thaïlandaise enchante les sens. Épices\, herbes et aromates se marient aux fruits\, légumes\, viandes et poissons pour titiller les palais. La Thaïlande est véritablement un restaurant à ciel ouvert. \nCe cours seraexclusivement consacré à la cuisine thaïlandaise du nord. \nNous préparerons les plats suivants avant de les déguster: \n  \nKhao Soï \nNam Tok \nSablé breton au combawa\, glace noix de coco\, fruit du dragon confit. \n  \n  \nLe prix comporte deux verres de vin.
URL:https://dev21.cours-de-cuisine-geneve.ch/details/la-cuisine-thai-le-nord-et-lisaan/
LOCATION:8 rue Prévost-Martin\, Genève\, 8 rue Prévost-Martin\, Genève\, Suisse
CATEGORIES:Aurel Termini,Cours de cuisine
ATTACH;FMTTYPE=image/jpeg:https://dev21.cours-de-cuisine-geneve.ch/wp-content/uploads/2019/09/thai-nord.jpg
ORGANIZER;CN="Ateliers%20by%20Serge%20Labrosse":MAILTO:contact@ateliersbysergelabrosse.ch
END:VEVENT
END:VCALENDAR