BEGIN:VCALENDAR
VERSION:2.0
PRODID:-//Cours de cuisine By Serge Labrosse - ECPv5.8.0//NONSGML v1.0//EN
CALSCALE:GREGORIAN
METHOD:PUBLISH
X-WR-CALNAME:Cours de cuisine By Serge Labrosse
X-ORIGINAL-URL:https://dev21.cours-de-cuisine-geneve.ch
X-WR-CALDESC:évènements pour Cours de cuisine By Serge Labrosse
BEGIN:VTIMEZONE
TZID:Europe/Paris
BEGIN:DAYLIGHT
TZOFFSETFROM:+0100
TZOFFSETTO:+0200
TZNAME:CEST
DTSTART:20190331T010000
END:DAYLIGHT
BEGIN:STANDARD
TZOFFSETFROM:+0200
TZOFFSETTO:+0100
TZNAME:CET
DTSTART:20191027T010000
END:STANDARD
END:VTIMEZONE
BEGIN:VEVENT
DTSTART;TZID=Europe/Paris:20191211T183000
DTEND;TZID=Europe/Paris:20191211T230000
DTSTAMP:20260419T170647
CREATED:20191108T114538Z
LAST-MODIFIED:20191108T121446Z
UID:12925-1576089000-1576105200@dev21.cours-de-cuisine-geneve.ch
SUMMARY:La Cuisine Hivernale
DESCRIPTION:L’hiver approche\, La nature va doucement ralentir\, les longues soirées d’hiver peuvent prendre place ! \nCe cours est destiné aux techniques légumières principalement\, qui sont essentielles à sa composition. \n  \nLe Menu (comprends deux verres de vin)\nVelouté de cresson \nBetterave en croûte de sel\, vinaigre de framboise\, huile de persil\, pommade de chèvre frais \nGratin de cardon \nPot-au-feu de canard. \nTarte au marron
URL:https://dev21.cours-de-cuisine-geneve.ch/details/la-cuisine-hivernale/
LOCATION:8 rue Prévost-Martin\, Genève\, 8 rue Prévost-Martin\, Genève\, Suisse
CATEGORIES:Aurel Termini,Cours de cuisine
ORGANIZER;CN="Ateliers%20by%20Serge%20Labrosse":MAILTO:contact@ateliersbysergelabrosse.ch
END:VEVENT
END:VCALENDAR