BEGIN:VCALENDAR
VERSION:2.0
PRODID:-//Cours de cuisine By Serge Labrosse - ECPv5.8.0//NONSGML v1.0//EN
CALSCALE:GREGORIAN
METHOD:PUBLISH
X-WR-CALNAME:Cours de cuisine By Serge Labrosse
X-ORIGINAL-URL:https://dev21.cours-de-cuisine-geneve.ch
X-WR-CALDESC:évènements pour Cours de cuisine By Serge Labrosse
BEGIN:VTIMEZONE
TZID:Europe/Paris
BEGIN:DAYLIGHT
TZOFFSETFROM:+0100
TZOFFSETTO:+0200
TZNAME:CEST
DTSTART:20200329T010000
END:DAYLIGHT
BEGIN:STANDARD
TZOFFSETFROM:+0200
TZOFFSETTO:+0100
TZNAME:CET
DTSTART:20201025T010000
END:STANDARD
END:VTIMEZONE
BEGIN:VEVENT
DTSTART;TZID=Europe/Paris:20200608T183000
DTEND;TZID=Europe/Paris:20200608T223000
DTSTAMP:20260419T141605
CREATED:20200518T092904Z
LAST-MODIFIED:20200518T092904Z
UID:13971-1591641000-1591655400@dev21.cours-de-cuisine-geneve.ch
SUMMARY:La cuisine d'été
DESCRIPTION:J’veux du soleil ! Dans le ciel comme dans l’assiette. Quoique quelque chose de frais\, léger et surtout très bon. Fruits\, salades\, plats du Sud et poissons accompagnent votre été dans notre sélection. \n\nLe menu \nAmuse bouche  \nRillette d’Aile de Raie \nArtichauts à la Barigoule et Suprême de Poulet. \nTarte Tatin tradition et Glace Vanille \n\nLe cours comprends deux verres de vin \n  \nSuite aux décisions du conseil fédéral\, la distanciation sociale se fera à table et la préparation des mets avec masques et gants dans des normes d’hygiène irréprochable.
URL:https://dev21.cours-de-cuisine-geneve.ch/details/la-cuisine-dete/
LOCATION:8 rue Prévost-Martin\, Genève\, 8 rue Prévost-Martin\, Genève\, Suisse
CATEGORIES:Aurel Termini
ATTACH;FMTTYPE=image/jpeg:https://dev21.cours-de-cuisine-geneve.ch/wp-content/uploads/2018/03/eating-601578_1920.jpg
ORGANIZER;CN="Ateliers%20by%20Serge%20Labrosse":MAILTO:contact@ateliersbysergelabrosse.ch
END:VEVENT
END:VCALENDAR