BEGIN:VCALENDAR
VERSION:2.0
PRODID:-//Cours de cuisine By Serge Labrosse - ECPv5.8.0//NONSGML v1.0//EN
CALSCALE:GREGORIAN
METHOD:PUBLISH
X-WR-CALNAME:Cours de cuisine By Serge Labrosse
X-ORIGINAL-URL:https://dev21.cours-de-cuisine-geneve.ch
X-WR-CALDESC:évènements pour Cours de cuisine By Serge Labrosse
BEGIN:VTIMEZONE
TZID:Europe/Paris
BEGIN:DAYLIGHT
TZOFFSETFROM:+0100
TZOFFSETTO:+0200
TZNAME:CEST
DTSTART:20200329T010000
END:DAYLIGHT
BEGIN:STANDARD
TZOFFSETFROM:+0200
TZOFFSETTO:+0100
TZNAME:CET
DTSTART:20201025T010000
END:STANDARD
END:VTIMEZONE
BEGIN:VEVENT
DTSTART;TZID=Europe/Paris:20200122T183000
DTEND;TZID=Europe/Paris:20200122T223000
DTSTAMP:20260419T184313
CREATED:20191213T171414Z
LAST-MODIFIED:20191213T171414Z
UID:13127-1579717800-1579732200@dev21.cours-de-cuisine-geneve.ch
SUMMARY:La cuisine de saison: L'hiver !
DESCRIPTION:L’hiver approche\, La nature va doucement ralentir\, les longues soirées d’hiver peuvent prendre place ! \nCe cours est destiné aux techniques légumières principalement\, qui sont essentielles à sa composition. \n  \nLe Menu (comprends deux verres de vin)\nVelouté de cresson \nGratin de cardon \nPot-au-feu de canard. \nTarte au marron
URL:https://dev21.cours-de-cuisine-geneve.ch/details/la-cuisine-de-saison-lhiver/
LOCATION:8 rue Prévost-Martin\, Genève\, 8 rue Prévost-Martin\, Genève\, Suisse
CATEGORIES:Aurel Termini,Cours de cuisine
ATTACH;FMTTYPE=image/jpeg:https://dev21.cours-de-cuisine-geneve.ch/wp-content/uploads/2019/11/fire-4578094_1280.jpg
ORGANIZER;CN="Ateliers%20by%20Serge%20Labrosse":MAILTO:contact@ateliersbysergelabrosse.ch
END:VEVENT
END:VCALENDAR