BEGIN:VCALENDAR
VERSION:2.0
PRODID:-//Cours de cuisine By Serge Labrosse - ECPv5.8.0//NONSGML v1.0//EN
CALSCALE:GREGORIAN
METHOD:PUBLISH
X-WR-CALNAME:Cours de cuisine By Serge Labrosse
X-ORIGINAL-URL:https://dev21.cours-de-cuisine-geneve.ch
X-WR-CALDESC:évènements pour Cours de cuisine By Serge Labrosse
BEGIN:VTIMEZONE
TZID:Europe/Paris
BEGIN:DAYLIGHT
TZOFFSETFROM:+0100
TZOFFSETTO:+0200
TZNAME:CEST
DTSTART:20170326T010000
END:DAYLIGHT
BEGIN:STANDARD
TZOFFSETFROM:+0200
TZOFFSETTO:+0100
TZNAME:CET
DTSTART:20171029T010000
END:STANDARD
END:VTIMEZONE
BEGIN:VEVENT
DTSTART;TZID=Europe/Paris:20171023T190000
DTEND;TZID=Europe/Paris:20171023T223000
DTSTAMP:20260419T202912
CREATED:20170926T081633Z
LAST-MODIFIED:20171018T081622Z
UID:6182-1508785200-1508797800@dev21.cours-de-cuisine-geneve.ch
SUMMARY:La Cuisine d'Anouk-Mille et une nuit
DESCRIPTION:Anouk Pagani vous fera découvrir ses recettes épicées et colorées\, pleines de gourmandises.\nDurant cette session vous apprendrez dans la bonne humeur quelques délices qui vous feront voyager au pays des mille et une nuit. \nAu menu: \nPastilla de poulet aux parfums d’Orient \nTajine d’agneau aux dattes et aux zestes d’oranges\,\nLégumes rôtis au Raz el Hanout \nCrème parfumée à la fleur d’oranger\, coulis de miel et cannelle \nCompris dans ce tarif : La préparation et la dégustation des mets\, 3 verres de vins+minérales/pers
URL:https://dev21.cours-de-cuisine-geneve.ch/details/la-cuisine-danouk-mille-et-une-nuit/
CATEGORIES:Cours de cuisine
ATTACH;FMTTYPE=image/jpeg:https://dev21.cours-de-cuisine-geneve.ch/wp-content/uploads/2017/09/Anouk-cours-de-cuisine-genève.jpg
ORGANIZER;CN="Ateliers%20by%20Serge%20Labrosse":MAILTO:contact@ateliersbysergelabrosse.ch
END:VEVENT
END:VCALENDAR