BEGIN:VCALENDAR
VERSION:2.0
PRODID:-//Cours de cuisine By Serge Labrosse - ECPv5.8.0//NONSGML v1.0//EN
CALSCALE:GREGORIAN
METHOD:PUBLISH
X-WR-CALNAME:Cours de cuisine By Serge Labrosse
X-ORIGINAL-URL:https://dev21.cours-de-cuisine-geneve.ch
X-WR-CALDESC:évènements pour Cours de cuisine By Serge Labrosse
BEGIN:VTIMEZONE
TZID:Europe/Paris
BEGIN:DAYLIGHT
TZOFFSETFROM:+0100
TZOFFSETTO:+0200
TZNAME:CEST
DTSTART:20190331T010000
END:DAYLIGHT
BEGIN:STANDARD
TZOFFSETFROM:+0200
TZOFFSETTO:+0100
TZNAME:CET
DTSTART:20191027T010000
END:STANDARD
END:VTIMEZONE
BEGIN:VEVENT
DTSTART;TZID=Europe/Paris:20191116T183000
DTEND;TZID=Europe/Paris:20191116T223000
DTSTAMP:20260419T220550
CREATED:20191022T105154Z
LAST-MODIFIED:20191022T105154Z
UID:12755-1573929000-1573943400@dev21.cours-de-cuisine-geneve.ch
SUMMARY:La Chasse
DESCRIPTION:La chasse\, le gibier\, la viande noire vous intrigue ? Venez découvrir les subtilités d’apprêt de ces produits d’exception ! \nLA CHASSE  \nPot-au-feu de Faisan \, pickles de girolles et son bouillon \n…\nSelle de Chevreuil rôtie et laquée\, au jus de mangue\, duo de tubercules & sauce au porto\n…\nPoires confites\, crumble aux cèpes et siphon liqueur des bois \n  \nLe montant de cet atelier comprend : Le support de cours\, la préparation\, la dégustation et 2 verres de vins
URL:https://dev21.cours-de-cuisine-geneve.ch/details/la-chasse-3/
LOCATION:8 rue Prévost-Martin\, Genève\, 8 rue Prévost-Martin\, Genève\, Suisse
CATEGORIES:Aurel Termini,Cours de cuisine
ATTACH;FMTTYPE=image/jpeg:https://dev21.cours-de-cuisine-geneve.ch/wp-content/uploads/2019/08/chasse.jpg
END:VEVENT
END:VCALENDAR