BEGIN:VCALENDAR
VERSION:2.0
PRODID:-//Cours de cuisine By Serge Labrosse - ECPv5.8.0//NONSGML v1.0//EN
CALSCALE:GREGORIAN
METHOD:PUBLISH
X-WR-CALNAME:Cours de cuisine By Serge Labrosse
X-ORIGINAL-URL:https://dev21.cours-de-cuisine-geneve.ch
X-WR-CALDESC:évènements pour Cours de cuisine By Serge Labrosse
BEGIN:VTIMEZONE
TZID:Europe/Paris
BEGIN:DAYLIGHT
TZOFFSETFROM:+0100
TZOFFSETTO:+0200
TZNAME:CEST
DTSTART:20180325T010000
END:DAYLIGHT
BEGIN:STANDARD
TZOFFSETFROM:+0200
TZOFFSETTO:+0100
TZNAME:CET
DTSTART:20181028T010000
END:STANDARD
END:VTIMEZONE
BEGIN:VEVENT
DTSTART;TZID=Europe/Paris:20180219T190000
DTEND;TZID=Europe/Paris:20180219T220000
DTSTAMP:20260419T152646
CREATED:20180130T160942Z
LAST-MODIFIED:20180130T211750Z
UID:7213-1519066800-1519077600@dev21.cours-de-cuisine-geneve.ch
SUMMARY:Initiation à la Cuisine Moléculaire
DESCRIPTION:Le Chef Mickaël Brun est invité aux Ateliers by Serge Labrosse pour partager sa vision de la cuisine moléculaire. Vous y découvrirez ses astuces et conseils de pro dans un cours autour d’un menu gastronomique en 3 plats (entrée\, plat et dessert). \nLe cours consistera à découvrir la gastronomie moléculaire : \n\nLes additifs alimentaires\nLa découverte de l’umami\, ou cinquième saveur\nDémonstration de la sphérification\nL’émulsion: comment faire « un shampoing »?\nL’effervescence : comment l’obtenir?\nLe pouvoir des carraghénanes\, comment obtenir une crème brulée 100% végétale?\nL’azote liquide: comprendre ses dangers\, ses plaisirs… De la glace à -196°C\, aux différentes techniques\nDécouvrir le « souffle du dragon ».\n\nCompris pour le cours\, par personne: la dégustation du menu et 1/2 bouteille de vin et minérales.
URL:https://dev21.cours-de-cuisine-geneve.ch/details/initiation-cuisine-moleculaire-5/
LOCATION:Mickaël Brun\, Rue Prévost Martin 8\, Genève\, 1205\, Suisse
CATEGORIES:Cours de cuisine,Mickaël Brun
ATTACH;FMTTYPE=image/jpeg:https://dev21.cours-de-cuisine-geneve.ch/wp-content/uploads/2017/04/10711080_10152770372082941_4938599077962605554_n.jpg
ORGANIZER;CN="Ateliers%20by%20Serge%20Labrosse":MAILTO:contact@ateliersbysergelabrosse.ch
END:VEVENT
END:VCALENDAR