BEGIN:VCALENDAR
VERSION:2.0
PRODID:-//Cours de cuisine By Serge Labrosse - ECPv5.8.0//NONSGML v1.0//EN
CALSCALE:GREGORIAN
METHOD:PUBLISH
X-WR-CALNAME:Cours de cuisine By Serge Labrosse
X-ORIGINAL-URL:https://dev21.cours-de-cuisine-geneve.ch
X-WR-CALDESC:évènements pour Cours de cuisine By Serge Labrosse
BEGIN:VTIMEZONE
TZID:Europe/Paris
BEGIN:DAYLIGHT
TZOFFSETFROM:+0100
TZOFFSETTO:+0200
TZNAME:CEST
DTSTART:20190331T010000
END:DAYLIGHT
BEGIN:STANDARD
TZOFFSETFROM:+0200
TZOFFSETTO:+0100
TZNAME:CET
DTSTART:20191027T010000
END:STANDARD
END:VTIMEZONE
BEGIN:VEVENT
DTSTART;TZID=Europe/Paris:20190920T190000
DTEND;TZID=Europe/Paris:20190920T223000
DTSTAMP:20260419T214120
CREATED:20190723T192405Z
LAST-MODIFIED:20190907T190310Z
UID:11974-1569006000-1569018600@dev21.cours-de-cuisine-geneve.ch
SUMMARY:Fusion Marocain
DESCRIPTION:Venez découvrir les techniques pour sélectionner les produits frais de saison et leur préparation \, afin d’ajouter une note de fraîcheur du maroc dans vos assiettes\, une invitation au voyage pour vos papilles……! \nCuisine orientale roll de carottes à la charmoulla \nLa carotte en trois cuissons croquante fondante et crémeuse \n************ \nTagine de Supreme de Volaille citron confit courgettes croquante taillées en bisot  \n(faire un fond de volaille au curcuma) \n************** \nMille trous au miel \nLe montant de cet atelier comprend : Le support de cours\, la préparation\, la dégustation et 2 verres de vins
URL:https://dev21.cours-de-cuisine-geneve.ch/details/fusion-marocain-2/
CATEGORIES:Aurel Termini,Cours de cuisine
ATTACH;FMTTYPE=image/jpeg:https://dev21.cours-de-cuisine-geneve.ch/wp-content/uploads/2019/02/im_20121213_skyword01_312139839.jpg
ORGANIZER;CN="Ateliers%20by%20Serge%20Labrosse":MAILTO:contact@ateliersbysergelabrosse.ch
END:VEVENT
END:VCALENDAR