BEGIN:VCALENDAR
VERSION:2.0
PRODID:-//Cours de cuisine By Serge Labrosse - ECPv5.8.0//NONSGML v1.0//EN
CALSCALE:GREGORIAN
METHOD:PUBLISH
X-WR-CALNAME:Cours de cuisine By Serge Labrosse
X-ORIGINAL-URL:https://dev21.cours-de-cuisine-geneve.ch
X-WR-CALDESC:évènements pour Cours de cuisine By Serge Labrosse
BEGIN:VTIMEZONE
TZID:Europe/Paris
BEGIN:DAYLIGHT
TZOFFSETFROM:+0100
TZOFFSETTO:+0200
TZNAME:CEST
DTSTART:20190331T010000
END:DAYLIGHT
BEGIN:STANDARD
TZOFFSETFROM:+0200
TZOFFSETTO:+0100
TZNAME:CET
DTSTART:20191027T010000
END:STANDARD
END:VTIMEZONE
BEGIN:VEVENT
DTSTART;TZID=Europe/Paris:20191015T183000
DTEND;TZID=Europe/Paris:20191015T220000
DTSTAMP:20260419T170447
CREATED:20190802T111033Z
LAST-MODIFIED:20190925T112944Z
UID:12059-1571164200-1571176800@dev21.cours-de-cuisine-geneve.ch
SUMMARY:Fusion Asie
DESCRIPTION:Venez découvrir la fusion culinaire entre Asie et Occident\, produits et techniques de part et d’autres se mêlent pour le plaisir de vos papilles\, une invitation au voyage. \nGyoza de tomates et gingembre confit\, crème de raifort \n******* \nRamen de porc laqué\, nuances chinoises & persillade \n******* \nNage de pêches au shiso et tuiles aux épices \nLe montant de cet atelier comprend : Le support de cours\, la préparation\, le menu et 2 verres de vins
URL:https://dev21.cours-de-cuisine-geneve.ch/details/fusion-asie-6/
CATEGORIES:Aurel Termini,Cours de cuisine
ATTACH;FMTTYPE=image/jpeg:https://dev21.cours-de-cuisine-geneve.ch/wp-content/uploads/2019/08/fusion-asie.jpg
ORGANIZER;CN="Ateliers%20by%20Serge%20Labrosse":MAILTO:contact@ateliersbysergelabrosse.ch
END:VEVENT
END:VCALENDAR