BEGIN:VCALENDAR
VERSION:2.0
PRODID:-//Cours de cuisine By Serge Labrosse - ECPv5.8.0//NONSGML v1.0//EN
CALSCALE:GREGORIAN
METHOD:PUBLISH
X-WR-CALNAME:Cours de cuisine By Serge Labrosse
X-ORIGINAL-URL:https://dev21.cours-de-cuisine-geneve.ch
X-WR-CALDESC:évènements pour Cours de cuisine By Serge Labrosse
BEGIN:VTIMEZONE
TZID:Europe/Paris
BEGIN:DAYLIGHT
TZOFFSETFROM:+0100
TZOFFSETTO:+0200
TZNAME:CEST
DTSTART:20190331T010000
END:DAYLIGHT
BEGIN:STANDARD
TZOFFSETFROM:+0200
TZOFFSETTO:+0100
TZNAME:CET
DTSTART:20191027T010000
END:STANDARD
END:VTIMEZONE
BEGIN:VEVENT
DTSTART;TZID=Europe/Paris:20191109T140000
DTEND;TZID=Europe/Paris:20191109T173000
DTSTAMP:20260420T005018
CREATED:20191022T111034Z
LAST-MODIFIED:20191022T111051Z
UID:12767-1573308000-1573320600@dev21.cours-de-cuisine-geneve.ch
SUMMARY:Entremêts et Chocolat
DESCRIPTION:Pour découvrir le monde du chocolat\, ses secrets et ses grands crus! \nAtelier pas-à-pas spécialement conçue pour les enfants comme les adultes\, dans une atmosphère ludique ! \nLaissez s’exprimer votre créativité ! Emportez le résultat chez vous ! \n  \nTrio de Praliné (Gianduja\, praliné\, java) \nEntremêt chocolat mandarine
URL:https://dev21.cours-de-cuisine-geneve.ch/details/entremets-et-chocolat/
LOCATION:8 rue Prévost-Martin\, Genève\, 8 rue Prévost-Martin\, Genève\, Suisse
CATEGORIES:Aurel Termini,Cours enfants,Cours pâtisserie
ATTACH;FMTTYPE=image/jpeg:https://dev21.cours-de-cuisine-geneve.ch/wp-content/uploads/2019/10/chocolates-1737503__480.jpg
ORGANIZER;CN="Ateliers%20by%20Serge%20Labrosse":MAILTO:contact@ateliersbysergelabrosse.ch
END:VEVENT
END:VCALENDAR