BEGIN:VCALENDAR
VERSION:2.0
PRODID:-//Cours de cuisine By Serge Labrosse - ECPv5.8.0//NONSGML v1.0//EN
CALSCALE:GREGORIAN
METHOD:PUBLISH
X-WR-CALNAME:Cours de cuisine By Serge Labrosse
X-ORIGINAL-URL:https://dev21.cours-de-cuisine-geneve.ch
X-WR-CALDESC:évènements pour Cours de cuisine By Serge Labrosse
BEGIN:VTIMEZONE
TZID:Europe/Paris
BEGIN:DAYLIGHT
TZOFFSETFROM:+0100
TZOFFSETTO:+0200
TZNAME:CEST
DTSTART:20200329T010000
END:DAYLIGHT
BEGIN:STANDARD
TZOFFSETFROM:+0200
TZOFFSETTO:+0100
TZNAME:CET
DTSTART:20201025T010000
END:STANDARD
END:VTIMEZONE
BEGIN:VEVENT
DTSTART;TZID=Europe/Paris:20200201T183000
DTEND;TZID=Europe/Paris:20200201T230000
DTSTAMP:20260419T221116
CREATED:20200106T163239Z
LAST-MODIFIED:20200109T093354Z
UID:13451-1580581800-1580598000@dev21.cours-de-cuisine-geneve.ch
SUMMARY:Le Menu Prestige
DESCRIPTION:C’est samedi ! il faut se faire plaisir ! Chaque dernier samedi du mois\, aux ateliers\, on cuisine des produits de luxes associés à de bons vins! Le cours engagera donc du travail et demandera de la délicatesse à apporter à ses produits rares. \nLe menu \nHuître gratinée\, sabayon au champagne \nCarpaccio de Saint-Jacques\, caviar\, lait d’amandes\, pistaches et pommade d’avocats \nPintade contisée aux truffes\, sauce Périgueux\, Pommes Anna \nEntremêt passion -coco\, feuilles d’or \nLe cours comprends trois verres de vin en progression
URL:https://dev21.cours-de-cuisine-geneve.ch/details/dernier-samedi-du-mois-le-menu-prestige/
LOCATION:8 rue Prévost-Martin\, Genève\, 8 rue Prévost-Martin\, Genève\, Suisse
CATEGORIES:Aurel Termini,Cours de cuisine
ATTACH;FMTTYPE=image/jpeg:https://dev21.cours-de-cuisine-geneve.ch/wp-content/uploads/2020/01/caviar-2230838_1280.jpg
ORGANIZER;CN="Ateliers%20by%20Serge%20Labrosse":MAILTO:contact@ateliersbysergelabrosse.ch
END:VEVENT
END:VCALENDAR