BEGIN:VCALENDAR
VERSION:2.0
PRODID:-//Cours de cuisine By Serge Labrosse - ECPv5.8.0//NONSGML v1.0//EN
CALSCALE:GREGORIAN
METHOD:PUBLISH
X-WR-CALNAME:Cours de cuisine By Serge Labrosse
X-ORIGINAL-URL:https://dev21.cours-de-cuisine-geneve.ch
X-WR-CALDESC:évènements pour Cours de cuisine By Serge Labrosse
BEGIN:VTIMEZONE
TZID:Europe/Paris
BEGIN:DAYLIGHT
TZOFFSETFROM:+0100
TZOFFSETTO:+0200
TZNAME:CEST
DTSTART:20190331T010000
END:DAYLIGHT
BEGIN:STANDARD
TZOFFSETFROM:+0200
TZOFFSETTO:+0100
TZNAME:CET
DTSTART:20191027T010000
END:STANDARD
END:VTIMEZONE
BEGIN:VEVENT
DTSTART;TZID=Europe/Paris:20190305T120000
DTEND;TZID=Europe/Paris:20190305T133000
DTSTAMP:20260420T030336
CREATED:20190213T172050Z
LAST-MODIFIED:20190301T125616Z
UID:9917-1551787200-1551792600@dev21.cours-de-cuisine-geneve.ch
SUMMARY:Déjeuner express'
DESCRIPTION:Le temps d’une pause ou entre vos impératifs\, venez réaliser et découvrir des plats simples et gourmands à reproduire chez vous. \nVelouté de panais et noisette\, chips de légumes à l’ancienne \n******* \nRapid’ Gnocchis\, billes de butternut et champignons sautés \nLe montant de l’atelier comprend : la préparation\, la dégustation des plats et un verre de vin d’accueil.
URL:https://dev21.cours-de-cuisine-geneve.ch/details/dejeuner-express-3-2/
CATEGORIES:Cours de cuisine
ATTACH;FMTTYPE=image/jpeg:https://dev21.cours-de-cuisine-geneve.ch/wp-content/uploads/2017/04/ateliers-de-cuisine-serge-labrosse-geneve.jpg
ORGANIZER;CN="Ateliers%20by%20Serge%20Labrosse":MAILTO:contact@ateliersbysergelabrosse.ch
END:VEVENT
END:VCALENDAR