BEGIN:VCALENDAR
VERSION:2.0
PRODID:-//Cours de cuisine By Serge Labrosse - ECPv5.8.0//NONSGML v1.0//EN
CALSCALE:GREGORIAN
METHOD:PUBLISH
X-WR-CALNAME:Cours de cuisine By Serge Labrosse
X-ORIGINAL-URL:https://dev21.cours-de-cuisine-geneve.ch
X-WR-CALDESC:évènements pour Cours de cuisine By Serge Labrosse
BEGIN:VTIMEZONE
TZID:Europe/Paris
BEGIN:DAYLIGHT
TZOFFSETFROM:+0100
TZOFFSETTO:+0200
TZNAME:CEST
DTSTART:20190331T010000
END:DAYLIGHT
BEGIN:STANDARD
TZOFFSETFROM:+0200
TZOFFSETTO:+0100
TZNAME:CET
DTSTART:20191027T010000
END:STANDARD
END:VTIMEZONE
BEGIN:VEVENT
DTSTART;TZID=Europe/Paris:20191207T183000
DTEND;TZID=Europe/Paris:20191207T220000
DTSTAMP:20260419T152904
CREATED:20190813T104945Z
LAST-MODIFIED:20191203T123157Z
UID:12137-1575743400-1575756000@dev21.cours-de-cuisine-geneve.ch
SUMMARY:Déclinaison Des Cucurbitacées.......!
DESCRIPTION:Venez découvrir les techniques pour sélectionner les courges et leur apprêt \, afin d’ajouter une note de fraîcheur dans vos assiettes\, une invitation au voyage pour vos papilles……! \n            Déclinaison Des Cucurbitacés ! \n  \nAccra de patidoux – dip au citron confit \nVelouté de courge  & butternut rôti au beurre mousseux \nRisotto de butternuts à l’Italienne –  éclat de châtaigne & émulsion de noisette \nŒuf parfait\, purée gourmande de potimarron au siphon & croustillant de Lard \n  \nLe montant de l’atelier comprend : le support de cours\, la préparation\, la dégustation des plats et 2 verres de vins.
URL:https://dev21.cours-de-cuisine-geneve.ch/details/declinaison-des-cucurbitacees-4/
CATEGORIES:Aurel Termini,Cours de cuisine
ATTACH;FMTTYPE=image/jpeg:https://dev21.cours-de-cuisine-geneve.ch/wp-content/uploads/2019/08/butternut.jpg
ORGANIZER;CN="Ateliers%20by%20Serge%20Labrosse":MAILTO:contact@ateliersbysergelabrosse.ch
END:VEVENT
END:VCALENDAR