BEGIN:VCALENDAR
VERSION:2.0
PRODID:-//Cours de cuisine By Serge Labrosse - ECPv5.8.0//NONSGML v1.0//EN
CALSCALE:GREGORIAN
METHOD:PUBLISH
X-WR-CALNAME:Cours de cuisine By Serge Labrosse
X-ORIGINAL-URL:https://dev21.cours-de-cuisine-geneve.ch
X-WR-CALDESC:évènements pour Cours de cuisine By Serge Labrosse
BEGIN:VTIMEZONE
TZID:Europe/Paris
BEGIN:DAYLIGHT
TZOFFSETFROM:+0100
TZOFFSETTO:+0200
TZNAME:CEST
DTSTART:20190331T010000
END:DAYLIGHT
BEGIN:STANDARD
TZOFFSETFROM:+0200
TZOFFSETTO:+0100
TZNAME:CET
DTSTART:20191027T010000
END:STANDARD
END:VTIMEZONE
BEGIN:VEVENT
DTSTART;TZID=Europe/Paris:20190312T190000
DTEND;TZID=Europe/Paris:20190312T220000
DTSTAMP:20260419T231701
CREATED:20190220T084140Z
LAST-MODIFIED:20190310T162527Z
UID:10122-1552417200-1552428000@dev21.cours-de-cuisine-geneve.ch
SUMMARY:Cuisine Orientale
DESCRIPTION:Nous vous vous invitons à découvrir la cuisine traditionnelle Orientale avec Dara\, d’origine Syrienne et passionnée par les plaisirs de la table\, vous apprendrez à préparer les plats typiques qui font la réputation de cette gastronomie \nVenez ajouter un peu de soleil dans vos assiettes avec ces spécialités méditerranéennes\, familiales et gourmandes. \nRégalez vos convives avec cette cuisine de partage. \nBatata Harra : un plat végétarien à base de pomme de terre \,coriandre et ail \nMousakaa: (maghmour aubergine): un plat végétarien composé d’aubergines et de pois chiches \nVeggie : Sambousek pâte croustillante moelleuse fourrée aux légumes \n  \nLe montant de cet atelier comprend : la préparation\, la dégustation des plats et les fiches recettes.
URL:https://dev21.cours-de-cuisine-geneve.ch/details/cuisine-orientale/
LOCATION:Dara Issa\, Rue Prévost Martin 8\, Genève\, 1205\, Suisse
CATEGORIES:Cours de cuisine,Dara Issa
ATTACH;FMTTYPE=image/jpeg:https://dev21.cours-de-cuisine-geneve.ch/wp-content/uploads/2019/02/Depositphotos_157251166_xl-2015.jpg
ORGANIZER;CN="Ateliers%20by%20Serge%20Labrosse":MAILTO:contact@ateliersbysergelabrosse.ch
END:VEVENT
END:VCALENDAR