BEGIN:VCALENDAR
VERSION:2.0
PRODID:-//Cours de cuisine By Serge Labrosse - ECPv5.8.0//NONSGML v1.0//EN
CALSCALE:GREGORIAN
METHOD:PUBLISH
X-WR-CALNAME:Cours de cuisine By Serge Labrosse
X-ORIGINAL-URL:https://dev21.cours-de-cuisine-geneve.ch
X-WR-CALDESC:évènements pour Cours de cuisine By Serge Labrosse
BEGIN:VTIMEZONE
TZID:Europe/Paris
BEGIN:DAYLIGHT
TZOFFSETFROM:+0100
TZOFFSETTO:+0200
TZNAME:CEST
DTSTART:20180325T010000
END:DAYLIGHT
BEGIN:STANDARD
TZOFFSETFROM:+0200
TZOFFSETTO:+0100
TZNAME:CET
DTSTART:20181028T010000
END:STANDARD
END:VTIMEZONE
BEGIN:VEVENT
DTSTART;TZID=Europe/Paris:20180403T190000
DTEND;TZID=Europe/Paris:20180403T223000
DTSTAMP:20260420T004833
CREATED:20180304T131936Z
LAST-MODIFIED:20180304T170839Z
UID:7474-1522782000-1522794600@dev21.cours-de-cuisine-geneve.ch
SUMMARY:Cuisine de tous les jours
DESCRIPTION:Parce que nous ne sommes pas tous des as de la cuisine\, cet atelier vous invite à découvrir des recettes simples à refaire chez vous\, une cuisine de tous les jours ! \nFraicheur de Daurade marinée aux agrumes\nPommade d’avocat et légumes croquants\n***\nFilet d’agneau rôti au thym\nPommes grenailles aux olives et petits légumes grillés\n***\nEspuma spéculoos et pomme confite au miel \nLe montant de cet atelier comprend : la préparation\, le menu et 3 verres de vin
URL:https://dev21.cours-de-cuisine-geneve.ch/details/cuisine-jours-3/
CATEGORIES:Cours de cuisine
ATTACH;FMTTYPE=image/jpeg:https://dev21.cours-de-cuisine-geneve.ch/wp-content/uploads/2017/05/ateliers-cuisine-geneve.jpg
ORGANIZER;CN="Ateliers%20by%20Serge%20Labrosse":MAILTO:contact@ateliersbysergelabrosse.ch
END:VEVENT
END:VCALENDAR