BEGIN:VCALENDAR
VERSION:2.0
PRODID:-//Cours de cuisine By Serge Labrosse - ECPv5.8.0//NONSGML v1.0//EN
CALSCALE:GREGORIAN
METHOD:PUBLISH
X-WR-CALNAME:Cours de cuisine By Serge Labrosse
X-ORIGINAL-URL:https://dev21.cours-de-cuisine-geneve.ch
X-WR-CALDESC:évènements pour Cours de cuisine By Serge Labrosse
BEGIN:VTIMEZONE
TZID:Europe/Paris
BEGIN:DAYLIGHT
TZOFFSETFROM:+0100
TZOFFSETTO:+0200
TZNAME:CEST
DTSTART:20180325T010000
END:DAYLIGHT
BEGIN:STANDARD
TZOFFSETFROM:+0200
TZOFFSETTO:+0100
TZNAME:CET
DTSTART:20181028T010000
END:STANDARD
END:VTIMEZONE
BEGIN:VEVENT
DTSTART;TZID=Europe/Paris:20180322T190000
DTEND;TZID=Europe/Paris:20180322T220000
DTSTAMP:20260419T213955
CREATED:20180223T221613Z
LAST-MODIFIED:20180319T093122Z
UID:7414-1521745200-1521756000@dev21.cours-de-cuisine-geneve.ch
SUMMARY:Cuisine de tous les jours
DESCRIPTION:Parce que nous ne sommes pas tous des as de la cuisine\, cet atelier vous invite à découvrir des recettes simples à refaire chez vous\, une cuisine de tous les jours ! \nPetites ravioles de saumon et ricotta\n Crème verte et citrons\n ***\n Filet de bœuf en croute de feuille de brick et tomates séchées\n Caviar d’aubergine brûlée et petits légumes au yaourt mentholé\n ***\n Pana cotta à la vanille\n Pomme confite et crumble au sarrasin \nLe montant de cet atelier comprend : la préparation\, le menu et 3 verres de vin
URL:https://dev21.cours-de-cuisine-geneve.ch/details/cuisine-jours-2/
CATEGORIES:Cours de cuisine
ATTACH;FMTTYPE=image/jpeg:https://dev21.cours-de-cuisine-geneve.ch/wp-content/uploads/2018/02/healthy-food-1348430_1920.jpg
ORGANIZER;CN="Ateliers%20by%20Serge%20Labrosse":MAILTO:contact@ateliersbysergelabrosse.ch
END:VEVENT
END:VCALENDAR