BEGIN:VCALENDAR
VERSION:2.0
PRODID:-//Cours de cuisine By Serge Labrosse - ECPv5.8.0//NONSGML v1.0//EN
CALSCALE:GREGORIAN
METHOD:PUBLISH
X-WR-CALNAME:Cours de cuisine By Serge Labrosse
X-ORIGINAL-URL:https://dev21.cours-de-cuisine-geneve.ch
X-WR-CALDESC:évènements pour Cours de cuisine By Serge Labrosse
BEGIN:VTIMEZONE
TZID:Europe/Paris
BEGIN:DAYLIGHT
TZOFFSETFROM:+0100
TZOFFSETTO:+0200
TZNAME:CEST
DTSTART:20190331T010000
END:DAYLIGHT
BEGIN:STANDARD
TZOFFSETFROM:+0200
TZOFFSETTO:+0100
TZNAME:CET
DTSTART:20191027T010000
END:STANDARD
END:VTIMEZONE
BEGIN:VEVENT
DTSTART;TZID=Europe/Paris:20190114T190000
DTEND;TZID=Europe/Paris:20190114T223000
DTSTAMP:20260419T234441
CREATED:20181207T174047Z
LAST-MODIFIED:20181230T090246Z
UID:9202-1547492400-1547505000@dev21.cours-de-cuisine-geneve.ch
SUMMARY:Cuisine de tous les jours
DESCRIPTION:Parce que nous ne sommes pas tous des as de la cuisine\, cet atelier vous invite à découvrir des recettes simples à refaire chez vous\, une cuisine de tous les jours ! \nOeuf poché\, crème de choux fleur et émulsion noisettes\n…\nSuprême de volaille rôti\, pommade butternut et champignons\n…\nMont-blanc façon ateliers \nLe montant de cet atelier comprend : la préparation\, le menu et 2 verres de vin
URL:https://dev21.cours-de-cuisine-geneve.ch/details/cuisine-de-tous-les-jours-8/
CATEGORIES:Cours de cuisine
ATTACH;FMTTYPE=image/jpeg:https://dev21.cours-de-cuisine-geneve.ch/wp-content/uploads/2017/04/ateliers-de-cuisine-serge-labrosse-geneve.jpg
ORGANIZER;CN="Ateliers%20by%20Serge%20Labrosse":MAILTO:contact@ateliersbysergelabrosse.ch
END:VEVENT
END:VCALENDAR