BEGIN:VCALENDAR
VERSION:2.0
PRODID:-//Cours de cuisine By Serge Labrosse - ECPv5.8.0//NONSGML v1.0//EN
CALSCALE:GREGORIAN
METHOD:PUBLISH
X-WR-CALNAME:Cours de cuisine By Serge Labrosse
X-ORIGINAL-URL:https://dev21.cours-de-cuisine-geneve.ch
X-WR-CALDESC:évènements pour Cours de cuisine By Serge Labrosse
BEGIN:VTIMEZONE
TZID:Europe/Paris
BEGIN:DAYLIGHT
TZOFFSETFROM:+0100
TZOFFSETTO:+0200
TZNAME:CEST
DTSTART:20180325T010000
END:DAYLIGHT
BEGIN:STANDARD
TZOFFSETFROM:+0200
TZOFFSETTO:+0100
TZNAME:CET
DTSTART:20181028T010000
END:STANDARD
END:VTIMEZONE
BEGIN:VEVENT
DTSTART;TZID=Europe/Paris:20180222T190000
DTEND;TZID=Europe/Paris:20180222T220000
DTSTAMP:20260419T201742
CREATED:20180130T162157Z
LAST-MODIFIED:20180209T095609Z
UID:7221-1519326000-1519336800@dev21.cours-de-cuisine-geneve.ch
SUMMARY:Cuisine de tous les jours
DESCRIPTION:Parce que nous ne sommes pas tous des as de la cuisine\, cet atelier vous invite à découvrir des recettes simples à refaire chez vous\, une cuisine de tous les jours ! \nGnocchis express\, crème de champignons de Paris\n Parmesan et lard paysan\n ***\n Volaille fermière marinée au Satay\n Pomme purée maison au wasabi et carottes glacées\n ***\n Pomme confites\, crumble noisettes et espuma de spéculoos \nLe montant de cet atelier comprend : la préparation\, le menu et 3 verres de vin
URL:https://dev21.cours-de-cuisine-geneve.ch/details/cuisine-de-tous-les-jours-2/
CATEGORIES:Cours de cuisine
ATTACH;FMTTYPE=image/jpeg:https://dev21.cours-de-cuisine-geneve.ch/wp-content/uploads/2015/03/1927_dl_photo3_2e353.jpg
ORGANIZER;CN="Ateliers%20by%20Serge%20Labrosse":MAILTO:contact@ateliersbysergelabrosse.ch
END:VEVENT
END:VCALENDAR