BEGIN:VCALENDAR
VERSION:2.0
PRODID:-//Cours de cuisine By Serge Labrosse - ECPv5.8.0//NONSGML v1.0//EN
CALSCALE:GREGORIAN
METHOD:PUBLISH
X-WR-CALNAME:Cours de cuisine By Serge Labrosse
X-ORIGINAL-URL:https://dev21.cours-de-cuisine-geneve.ch
X-WR-CALDESC:évènements pour Cours de cuisine By Serge Labrosse
BEGIN:VTIMEZONE
TZID:Europe/Paris
BEGIN:DAYLIGHT
TZOFFSETFROM:+0100
TZOFFSETTO:+0200
TZNAME:CEST
DTSTART:20180325T010000
END:DAYLIGHT
BEGIN:STANDARD
TZOFFSETFROM:+0200
TZOFFSETTO:+0100
TZNAME:CET
DTSTART:20181028T010000
END:STANDARD
END:VTIMEZONE
BEGIN:VEVENT
DTSTART;TZID=Europe/Paris:20180117T190000
DTEND;TZID=Europe/Paris:20180117T220000
DTSTAMP:20260420T112650
CREATED:20171204T134601Z
LAST-MODIFIED:20190502T155004Z
UID:6733-1516215600-1516226400@dev21.cours-de-cuisine-geneve.ch
SUMMARY:Cuisine "Canaille"
DESCRIPTION:Adepte de la cuisine “Canaille”\, venez apprendre à préparer des plats savoureux et gourmands … dont vous ne pourrez plus vous passer. A faire et refaire ! \nŒuf en meurette à la beaujolaise\n***\n Rôti de magret de canard au foie gras façon mendiant\nPommade de carottes au miel\n***\nLe baba au rhum traditionnel \nLe montant de cet atelier comprend : la préparation\, le menu et 3 verres de vins
URL:https://dev21.cours-de-cuisine-geneve.ch/details/cuisine-canaille/
CATEGORIES:Cours de cuisine
ATTACH;FMTTYPE=image/jpeg:https://dev21.cours-de-cuisine-geneve.ch/wp-content/uploads/2018/10/ateliers-cuisine-geneve.jpg
ORGANIZER;CN="Ateliers%20by%20Serge%20Labrosse":MAILTO:contact@ateliersbysergelabrosse.ch
END:VEVENT
END:VCALENDAR