BEGIN:VCALENDAR
VERSION:2.0
PRODID:-//Cours de cuisine By Serge Labrosse - ECPv5.8.0//NONSGML v1.0//EN
CALSCALE:GREGORIAN
METHOD:PUBLISH
X-WR-CALNAME:Cours de cuisine By Serge Labrosse
X-ORIGINAL-URL:https://dev21.cours-de-cuisine-geneve.ch
X-WR-CALDESC:évènements pour Cours de cuisine By Serge Labrosse
BEGIN:VTIMEZONE
TZID:Europe/Paris
BEGIN:DAYLIGHT
TZOFFSETFROM:+0100
TZOFFSETTO:+0200
TZNAME:CEST
DTSTART:20190331T010000
END:DAYLIGHT
BEGIN:STANDARD
TZOFFSETFROM:+0200
TZOFFSETTO:+0100
TZNAME:CET
DTSTART:20191027T010000
END:STANDARD
END:VTIMEZONE
BEGIN:VEVENT
DTSTART;TZID=Europe/Paris:20190201T190000
DTEND;TZID=Europe/Paris:20190201T223000
DTSTAMP:20260420T060803
CREATED:20181207T173405Z
LAST-MODIFIED:20181207T173405Z
UID:9193-1549047600-1549060200@dev21.cours-de-cuisine-geneve.ch
SUMMARY:Cours Tapas
DESCRIPTION:Vous aimez recevoir vos amis et leur préparer des apéritifs améliorés ou des petits cocktails dinatoires ? Cet atelier est pour vous. Venez préparer et déguster des tapas simples mais qui font leur effet ! \nBlinis de patate douce\, tartare de saumon\, pomme et air de citron\n***\nFoie gras poêlé\, réduction de balsamique blanc et estragon\n ***\nOeuf parfait\, crème de champignons\, pickels et jambon cru\n ***\nCromesquis de confit de boeuf\, pommade de carottes\n ***\nMini pomme d’amour \n 
URL:https://dev21.cours-de-cuisine-geneve.ch/details/cours-tapas-9/
CATEGORIES:Cours de cuisine
ATTACH;FMTTYPE=image/jpeg:https://dev21.cours-de-cuisine-geneve.ch/wp-content/uploads/2018/10/ateliers-cuisine-geneve.jpg
ORGANIZER;CN="Ateliers%20by%20Serge%20Labrosse":MAILTO:contact@ateliersbysergelabrosse.ch
END:VEVENT
END:VCALENDAR