BEGIN:VCALENDAR
VERSION:2.0
PRODID:-//Cours de cuisine By Serge Labrosse - ECPv5.8.0//NONSGML v1.0//EN
CALSCALE:GREGORIAN
METHOD:PUBLISH
X-WR-CALNAME:Cours de cuisine By Serge Labrosse
X-ORIGINAL-URL:https://dev21.cours-de-cuisine-geneve.ch
X-WR-CALDESC:évènements pour Cours de cuisine By Serge Labrosse
BEGIN:VTIMEZONE
TZID:Europe/Paris
BEGIN:DAYLIGHT
TZOFFSETFROM:+0100
TZOFFSETTO:+0200
TZNAME:CEST
DTSTART:20180325T010000
END:DAYLIGHT
BEGIN:STANDARD
TZOFFSETFROM:+0200
TZOFFSETTO:+0100
TZNAME:CET
DTSTART:20181028T010000
END:STANDARD
END:VTIMEZONE
BEGIN:VEVENT
DTSTART;TZID=Europe/Paris:20180405T190000
DTEND;TZID=Europe/Paris:20180405T220000
DTSTAMP:20260420T011926
CREATED:20180304T171609Z
LAST-MODIFIED:20180304T171642Z
UID:7484-1522954800-1522965600@dev21.cours-de-cuisine-geneve.ch
SUMMARY:Cours Tapas
DESCRIPTION:Vous aimez recevoir vos amis et leur préparer des apéritifs améliorés ou des petits cocktails dinatoires ? Cet atelier est pour vous. Venez préparer et déguster des tapas simples mais qui font leur effet ! \nBlinis de tartare de saumon au sésame wasabi\, air de citron\n ***\nFoie gras en gelée de framboises\, terre végétale et shiso\n ***\nCrème d’aubergines fumées\, bille liquide de yaourt à la menthe\n ***\nRoulé de saumon fumé et chair de crabe au curry de madras\nGel de pomme acidulée et tuile dentelles à l’encre de seiche\n ***\nGambas au lard fumé flambée au rhum\, crème d’avocat\n ***\nGlace à l’azote \nLe prix de cet atelier comprend : la préparation\, les tapas et 3 verres de vin
URL:https://dev21.cours-de-cuisine-geneve.ch/details/cours-tapas-3/
CATEGORIES:Cours de cuisine
ATTACH;FMTTYPE=image/jpeg:https://dev21.cours-de-cuisine-geneve.ch/wp-content/uploads/2017/05/cours-cuisine-geneve-aperitif-dinatoire.jpg
ORGANIZER;CN="Ateliers%20by%20Serge%20Labrosse":MAILTO:contact@ateliersbysergelabrosse.ch
END:VEVENT
END:VCALENDAR