BEGIN:VCALENDAR
VERSION:2.0
PRODID:-//Cours de cuisine By Serge Labrosse - ECPv5.8.0//NONSGML v1.0//EN
CALSCALE:GREGORIAN
METHOD:PUBLISH
X-WR-CALNAME:Cours de cuisine By Serge Labrosse
X-ORIGINAL-URL:https://dev21.cours-de-cuisine-geneve.ch
X-WR-CALDESC:évènements pour Cours de cuisine By Serge Labrosse
BEGIN:VTIMEZONE
TZID:Europe/Paris
BEGIN:DAYLIGHT
TZOFFSETFROM:+0100
TZOFFSETTO:+0200
TZNAME:CEST
DTSTART:20170326T010000
END:DAYLIGHT
BEGIN:STANDARD
TZOFFSETFROM:+0200
TZOFFSETTO:+0100
TZNAME:CET
DTSTART:20171029T010000
END:STANDARD
END:VTIMEZONE
BEGIN:VEVENT
DTSTART;TZID=Europe/Paris:20171127T190000
DTEND;TZID=Europe/Paris:20171127T213000
DTSTAMP:20260420T042718
CREATED:20170620T103939Z
LAST-MODIFIED:20171120T095629Z
UID:5560-1511809200-1511818200@dev21.cours-de-cuisine-geneve.ch
SUMMARY:Cours Siphons
DESCRIPTION:Venez découvrir les secrets de cet ustensile de cuisine parfois crain.\nEmulsion chaude ou froide\, vous apprendrez à apprivoiser le siphon autour de recettes gourmandes et originales \nAu Menu: \nPetit salé à la gelée de pain brûlé\, émulsion de lard fumé\n…\nFilet de bœuf poché au vin rouge\,  moelle à la fleur de sel et siphon de pomme de terre aux trompettes\n…\nPoire confite\, sablé breton et glace aux châtaignes \nVous apprendrez: \n-Réaliser une mousse salée\n– Poché une viande\n-Faire une gelée \nCompris dans ce tarif : La préparation et la dégustation des mets\, 3 verres de vins.
URL:https://dev21.cours-de-cuisine-geneve.ch/details/cours-siphons-9/
CATEGORIES:Cours de cuisine
ATTACH;FMTTYPE=image/jpeg:https://dev21.cours-de-cuisine-geneve.ch/wp-content/uploads/2017/05/cours-de-cuisine-geneve-technique-siphon.jpg
ORGANIZER;CN="Ateliers%20by%20Serge%20Labrosse":MAILTO:contact@ateliersbysergelabrosse.ch
END:VEVENT
END:VCALENDAR