BEGIN:VCALENDAR
VERSION:2.0
PRODID:-//Cours de cuisine By Serge Labrosse - ECPv5.8.0//NONSGML v1.0//EN
CALSCALE:GREGORIAN
METHOD:PUBLISH
X-WR-CALNAME:Cours de cuisine By Serge Labrosse
X-ORIGINAL-URL:https://dev21.cours-de-cuisine-geneve.ch
X-WR-CALDESC:évènements pour Cours de cuisine By Serge Labrosse
BEGIN:VTIMEZONE
TZID:Europe/Paris
BEGIN:DAYLIGHT
TZOFFSETFROM:+0100
TZOFFSETTO:+0200
TZNAME:CEST
DTSTART:20170326T010000
END:DAYLIGHT
BEGIN:STANDARD
TZOFFSETFROM:+0200
TZOFFSETTO:+0100
TZNAME:CET
DTSTART:20171029T010000
END:STANDARD
END:VTIMEZONE
BEGIN:VEVENT
DTSTART;TZID=Europe/Paris:20170825T190000
DTEND;TZID=Europe/Paris:20170825T220000
DTSTAMP:20260420T021825
CREATED:20170616T120009Z
LAST-MODIFIED:20170616T120009Z
UID:5460-1503687600-1503698400@dev21.cours-de-cuisine-geneve.ch
SUMMARY:Cours Siphons
DESCRIPTION:Venez découvrir les secrets de cet ustensile de cuisine parfois crain.\nEmulsion chaude ou froide\, vous apprendrez à apprivoiser le siphon autour de recettes gourmandes et originales \nAu menu : \nGaspacho mousseux à la cerise\, rillette de crabe et sucrine\n…\nFoie gras poêlé\, siphon d’estragon et pomme granny au sarrasin\n…\nPavé de bœuf fumé puis grillé\, roulé de ratatouille et siphon de pomme de terre\n…\nMille-feuille blanc\, crème infusée au basilic et gelée de fraises au siphon \nVous apprendrez : \n-Comment réalisé une gelée au siphon\n-Faire une purée de pomme de terre ultra légère\n-Utiliser le siphon de toutes les manières possibles \nCompris dans ce tarif : La préparation et la dégustation des mets\, 3 verres de vins.
URL:https://dev21.cours-de-cuisine-geneve.ch/details/cours-siphons-2/
CATEGORIES:Cours de cuisine
ATTACH;FMTTYPE=image/jpeg:https://dev21.cours-de-cuisine-geneve.ch/wp-content/uploads/2017/05/cours-de-cuisine-geneve-technique-siphon.jpg
ORGANIZER;CN="Ateliers%20by%20Serge%20Labrosse":MAILTO:contact@ateliersbysergelabrosse.ch
END:VEVENT
END:VCALENDAR