BEGIN:VCALENDAR
VERSION:2.0
PRODID:-//Cours de cuisine By Serge Labrosse - ECPv5.8.0//NONSGML v1.0//EN
CALSCALE:GREGORIAN
METHOD:PUBLISH
X-WR-CALNAME:Cours de cuisine By Serge Labrosse
X-ORIGINAL-URL:https://dev21.cours-de-cuisine-geneve.ch
X-WR-CALDESC:évènements pour Cours de cuisine By Serge Labrosse
BEGIN:VTIMEZONE
TZID:Europe/Paris
BEGIN:DAYLIGHT
TZOFFSETFROM:+0100
TZOFFSETTO:+0200
TZNAME:CEST
DTSTART:20180325T010000
END:DAYLIGHT
BEGIN:STANDARD
TZOFFSETFROM:+0200
TZOFFSETTO:+0100
TZNAME:CET
DTSTART:20181028T010000
END:STANDARD
END:VTIMEZONE
BEGIN:VEVENT
DTSTART;TZID=Europe/Paris:20180417T190000
DTEND;TZID=Europe/Paris:20180417T220000
DTSTAMP:20260420T004808
CREATED:20180304T181147Z
LAST-MODIFIED:20180304T181147Z
UID:7519-1523991600-1524002400@dev21.cours-de-cuisine-geneve.ch
SUMMARY:Cours Siphon
DESCRIPTION:Pour découvrir les secrets de cet ustensile de cuisine et agrémenter vos recettes avec des émulsions chaudes ou froides\, venez apprivoiser le siphon lors de cet atelier qui lui est spécialement dédié. \nTartare de saumon à la guimauve de raifort\, pickles et siphon au citron\n ***\nAsperges vertes grillées\, œuf de poissons fumé\nPetits croutons et hollandaise au siphon\n ***\nCarré d’agneau rôti et cuit sur le foin\nTapenade d’olive et siphon de pomme de terre rôtie\, coulis de tomates et poivrons\n ***\nSiphon de mousse au chocolat\, crumble et poires \nLe montant de cet atelier comprend : la préparation\, le menu et 3 verres de vins
URL:https://dev21.cours-de-cuisine-geneve.ch/details/cours-siphon-3/
CATEGORIES:Cours de cuisine
ATTACH;FMTTYPE=image/jpeg:https://dev21.cours-de-cuisine-geneve.ch/wp-content/uploads/2017/05/cours-de-cuisine-geneve-technique-siphon.jpg
ORGANIZER;CN="Ateliers%20by%20Serge%20Labrosse":MAILTO:contact@ateliersbysergelabrosse.ch
END:VEVENT
END:VCALENDAR