BEGIN:VCALENDAR
VERSION:2.0
PRODID:-//Cours de cuisine By Serge Labrosse - ECPv5.8.0//NONSGML v1.0//EN
CALSCALE:GREGORIAN
METHOD:PUBLISH
X-WR-CALNAME:Cours de cuisine By Serge Labrosse
X-ORIGINAL-URL:https://dev21.cours-de-cuisine-geneve.ch
X-WR-CALDESC:évènements pour Cours de cuisine By Serge Labrosse
BEGIN:VTIMEZONE
TZID:Europe/Paris
BEGIN:DAYLIGHT
TZOFFSETFROM:+0100
TZOFFSETTO:+0200
TZNAME:CEST
DTSTART:20180325T010000
END:DAYLIGHT
BEGIN:STANDARD
TZOFFSETFROM:+0200
TZOFFSETTO:+0100
TZNAME:CET
DTSTART:20181028T010000
END:STANDARD
END:VTIMEZONE
BEGIN:VEVENT
DTSTART;TZID=Europe/Paris:20180917T190000
DTEND;TZID=Europe/Paris:20180917T220000
DTSTAMP:20260420T043841
CREATED:20180613T103941Z
LAST-MODIFIED:20180613T103941Z
UID:8258-1537210800-1537221600@dev21.cours-de-cuisine-geneve.ch
SUMMARY:Cours ravioles\, gnocchi et risotto
DESCRIPTION:Partez à la conquête de plats emblématiques italiens que nous cuisinerons à notre façon afin de vous faire découvrir de nouvelles astuces. \nRisotto crèmeux\, espuma de cèpes et poudre de jambon\n…\nRavioles de veau et foie gras\, parfum de truffe\n…\nGnocchis\, crevette et sauce tandoori \nVous apprendrez : \n\ncomment réaliser une pâte à raviole\nà faire des gnocchis maison\nà réussir un risotto à coup sûr\n\nLe montant de l’atelier comprend : la préparation\, le menu et 3 verres de vins.
URL:https://dev21.cours-de-cuisine-geneve.ch/details/cours-ravioles-gnocchi-et-risotto-2/
CATEGORIES:Cours de cuisine
ATTACH;FMTTYPE=image/jpeg:https://dev21.cours-de-cuisine-geneve.ch/wp-content/uploads/2017/05/cours-cuisine-italienne-gnocchi-geneve.jpg
ORGANIZER;CN="Ateliers%20by%20Serge%20Labrosse":MAILTO:contact@ateliersbysergelabrosse.ch
END:VEVENT
END:VCALENDAR