BEGIN:VCALENDAR
VERSION:2.0
PRODID:-//Cours de cuisine By Serge Labrosse - ECPv5.8.0//NONSGML v1.0//EN
CALSCALE:GREGORIAN
METHOD:PUBLISH
X-WR-CALNAME:Cours de cuisine By Serge Labrosse
X-ORIGINAL-URL:https://dev21.cours-de-cuisine-geneve.ch
X-WR-CALDESC:évènements pour Cours de cuisine By Serge Labrosse
BEGIN:VTIMEZONE
TZID:Europe/Paris
BEGIN:DAYLIGHT
TZOFFSETFROM:+0100
TZOFFSETTO:+0200
TZNAME:CEST
DTSTART:20190331T010000
END:DAYLIGHT
BEGIN:STANDARD
TZOFFSETFROM:+0200
TZOFFSETTO:+0100
TZNAME:CET
DTSTART:20191027T010000
END:STANDARD
END:VTIMEZONE
BEGIN:VEVENT
DTSTART;TZID=Europe/Paris:20191009T140000
DTEND;TZID=Europe/Paris:20191009T160000
DTSTAMP:20260419T201927
CREATED:20190629T194305Z
LAST-MODIFIED:20190629T194305Z
UID:11849-1570629600-1570636800@dev21.cours-de-cuisine-geneve.ch
SUMMARY:Cours Pour Les Enfants : Foret Noire
DESCRIPTION:La cuisine et la pâtisserie sont avant tout des arts ludiques\, c’est pourquoi nous proposons ces cours. \nL’éveil des sens est indispensable pour nos touts petits\, Laure Platiau\, notre Cheffe Pâtissière\, accompagnera vos enfants dans cet atelier où ils réaliseront: \n  \nUne Foiret Noire \n  \nIls auront plaisir à manipuler les ingrédients et découvrir leur préparation évoluée au fur et à mesure de l’avancé de la recette. \nFier de leur travail\, ils apporteront leur réalisation à la maison pour une dégustation en famille ou entre amis. \nLe montant de l’atelier comprend : la préparation\, les réalisations à emmener chez soi et les boissons à disposition. \nL’Atelier est ouvert aux enfants dès 6 ans. \nAfin de préserver l’attention de chacun\, nous recommandons aux parents de quitter les lieux le temps de l’activité.
URL:https://dev21.cours-de-cuisine-geneve.ch/details/cours-pour-les-enfants-foret-noire/
LOCATION:Laure Platiau\, Rue Prévost Martin 8\, Genève\, 1205\, Suisse
CATEGORIES:Cours enfants,Laure Platiau
ATTACH;FMTTYPE=image/jpeg:https://dev21.cours-de-cuisine-geneve.ch/wp-content/uploads/2019/03/Depositphotos_125420978_xl-2015.jpg
ORGANIZER;CN="Ateliers%20by%20Serge%20Labrosse":MAILTO:contact@ateliersbysergelabrosse.ch
END:VEVENT
END:VCALENDAR