BEGIN:VCALENDAR
VERSION:2.0
PRODID:-//Cours de cuisine By Serge Labrosse - ECPv5.8.0//NONSGML v1.0//EN
CALSCALE:GREGORIAN
METHOD:PUBLISH
X-WR-CALNAME:Cours de cuisine By Serge Labrosse
X-ORIGINAL-URL:https://dev21.cours-de-cuisine-geneve.ch
X-WR-CALDESC:évènements pour Cours de cuisine By Serge Labrosse
BEGIN:VTIMEZONE
TZID:Europe/Paris
BEGIN:DAYLIGHT
TZOFFSETFROM:+0100
TZOFFSETTO:+0200
TZNAME:CEST
DTSTART:20180325T010000
END:DAYLIGHT
BEGIN:STANDARD
TZOFFSETFROM:+0200
TZOFFSETTO:+0100
TZNAME:CET
DTSTART:20181028T010000
END:STANDARD
END:VTIMEZONE
BEGIN:VEVENT
DTSTART;TZID=Europe/Paris:20180523T190000
DTEND;TZID=Europe/Paris:20180523T220000
DTSTAMP:20260420T060814
CREATED:20180409T134419Z
LAST-MODIFIED:20180409T134419Z
UID:7802-1527102000-1527112800@dev21.cours-de-cuisine-geneve.ch
SUMMARY:Cours 100% Poissons & Co
DESCRIPTION:Cru\, cuit\, poché rôti … le poisson se déguste sous toutes les coutures. Autour de recettes originales et savoureuses\, venez apprendre les techniques pour ne pas rater la préparation de vos plats de poissons & Co \nFines tranches de daurade marinées au piment d’Espelette\nCitron et jeunes légumes en copeaux\n ***\nTurbot rôti au beurre demi-sel\nCourgette en différentes textures et sauce citronelle\n ***\nComme une tarte au citron \nLe montant de cet atelier comprend : la préparation\, le menu et 3 verres de vins
URL:https://dev21.cours-de-cuisine-geneve.ch/details/cours-poissons-2/
CATEGORIES:Cours de cuisine
ATTACH;FMTTYPE=image/jpeg:https://dev21.cours-de-cuisine-geneve.ch/wp-content/uploads/2018/02/eat-3175537_1920.jpg
ORGANIZER;CN="Ateliers%20by%20Serge%20Labrosse":MAILTO:contact@ateliersbysergelabrosse.ch
END:VEVENT
END:VCALENDAR