BEGIN:VCALENDAR
VERSION:2.0
PRODID:-//Cours de cuisine By Serge Labrosse - ECPv5.8.0//NONSGML v1.0//EN
CALSCALE:GREGORIAN
METHOD:PUBLISH
X-WR-CALNAME:Cours de cuisine By Serge Labrosse
X-ORIGINAL-URL:https://dev21.cours-de-cuisine-geneve.ch
X-WR-CALDESC:évènements pour Cours de cuisine By Serge Labrosse
BEGIN:VTIMEZONE
TZID:Europe/Paris
BEGIN:DAYLIGHT
TZOFFSETFROM:+0100
TZOFFSETTO:+0200
TZNAME:CEST
DTSTART:20170326T010000
END:DAYLIGHT
BEGIN:STANDARD
TZOFFSETFROM:+0200
TZOFFSETTO:+0100
TZNAME:CET
DTSTART:20171029T010000
END:STANDARD
END:VTIMEZONE
BEGIN:VEVENT
DTSTART;TZID=Europe/Paris:20170923T143000
DTEND;TZID=Europe/Paris:20170923T163000
DTSTAMP:20260420T095533
CREATED:20170817T093444Z
LAST-MODIFIED:20170923T114107Z
UID:5856-1506177000-1506184200@dev21.cours-de-cuisine-geneve.ch
SUMMARY:Cours Pâtisserie/ 100% Tartes
DESCRIPTION:Lors de cet Atelier\, vous partirez à la découverte de tartes originales et gourmandes.\nSous les conseils de notre Chef Pâtissier Hans\, vous réaliserez chacun 4 tartelettes que vous pourrez emmener chez-vous.\nTarte au citron meringuée et tarte aux pommes revisitées ainsi qu’une délicieuse tarte au chocolat seront de la partie !!! \nLe cours durera minimum 2h30 \n  \n  \n 
URL:https://dev21.cours-de-cuisine-geneve.ch/details/cours-patisserie-100-tartes/
CATEGORIES:Cours pâtisserie
ATTACH;FMTTYPE=image/jpeg:https://dev21.cours-de-cuisine-geneve.ch/wp-content/uploads/2017/05/cours-atelier-patisserie-geneve.jpg
ORGANIZER;CN="Ateliers%20by%20Serge%20Labrosse":MAILTO:contact@ateliersbysergelabrosse.ch
END:VEVENT
END:VCALENDAR