BEGIN:VCALENDAR
VERSION:2.0
PRODID:-//Cours de cuisine By Serge Labrosse - ECPv5.8.0//NONSGML v1.0//EN
CALSCALE:GREGORIAN
METHOD:PUBLISH
X-WR-CALNAME:Cours de cuisine By Serge Labrosse
X-ORIGINAL-URL:https://dev21.cours-de-cuisine-geneve.ch
X-WR-CALDESC:évènements pour Cours de cuisine By Serge Labrosse
BEGIN:VTIMEZONE
TZID:Europe/Paris
BEGIN:DAYLIGHT
TZOFFSETFROM:+0100
TZOFFSETTO:+0200
TZNAME:CEST
DTSTART:20180325T010000
END:DAYLIGHT
BEGIN:STANDARD
TZOFFSETFROM:+0200
TZOFFSETTO:+0100
TZNAME:CET
DTSTART:20181028T010000
END:STANDARD
END:VTIMEZONE
BEGIN:VEVENT
DTSTART;TZID=Europe/Paris:20180210T103000
DTEND;TZID=Europe/Paris:20180210T130000
DTSTAMP:20260419T232049
CREATED:20180130T154429Z
LAST-MODIFIED:20180130T212132Z
UID:7200-1518258600-1518267600@dev21.cours-de-cuisine-geneve.ch
SUMMARY:Cours Pâtisserie - 100% Chocolat
DESCRIPTION:Pour les amoureux du chocolat\, notre Chef pâtissier\, Hans Gaillet qui vous transmettra son savoir-faire et ses astuces afin de réussir à coup sûr de délicieux desserts chocolatés.
URL:https://dev21.cours-de-cuisine-geneve.ch/details/cours-patisserie-100-chocolat-2/
CATEGORIES:Cours de cuisine,Cours pâtisserie
ATTACH;FMTTYPE=image/jpeg:https://dev21.cours-de-cuisine-geneve.ch/wp-content/uploads/2017/05/atelier-patisserie-geneve-chocolat.jpg
ORGANIZER;CN="Ateliers%20by%20Serge%20Labrosse":MAILTO:contact@ateliersbysergelabrosse.ch
END:VEVENT
END:VCALENDAR