BEGIN:VCALENDAR
VERSION:2.0
PRODID:-//Cours de cuisine By Serge Labrosse - ECPv5.8.0//NONSGML v1.0//EN
CALSCALE:GREGORIAN
METHOD:PUBLISH
X-WR-CALNAME:Cours de cuisine By Serge Labrosse
X-ORIGINAL-URL:https://dev21.cours-de-cuisine-geneve.ch
X-WR-CALDESC:évènements pour Cours de cuisine By Serge Labrosse
BEGIN:VTIMEZONE
TZID:Europe/Paris
BEGIN:DAYLIGHT
TZOFFSETFROM:+0100
TZOFFSETTO:+0200
TZNAME:CEST
DTSTART:20180325T010000
END:DAYLIGHT
BEGIN:STANDARD
TZOFFSETFROM:+0200
TZOFFSETTO:+0100
TZNAME:CET
DTSTART:20181028T010000
END:STANDARD
END:VTIMEZONE
BEGIN:VEVENT
DTSTART;TZID=Europe/Paris:20180507T190000
DTEND;TZID=Europe/Paris:20180507T220000
DTSTAMP:20260420T075619
CREATED:20180409T131959Z
LAST-MODIFIED:20180409T131959Z
UID:7765-1525719600-1525730400@dev21.cours-de-cuisine-geneve.ch
SUMMARY:Cours 100% Morilles
DESCRIPTION:Poussant dès la fonte des neiges\, ce champignon savoureux doit être cuit et peut accompagner de nombreuses plats (entrées\, viandes\, risotto pâtes). Lors de cet atelier\, le Chef vous proposera des recettes originales. \nMorilles farcies puis fumées\nVelouté à l’ail des ours\n***\nFilet de bœuf rôti\, morilles flambées et en essence\nRaviole de morilles et petits pois\n***\nMorilles caramélisées et banane\n \nLe montant de cet atelier comprend : la préparation\, le menu et 3 verres de vins
URL:https://dev21.cours-de-cuisine-geneve.ch/details/cours-morilles__trashed-2/
CATEGORIES:Cours de cuisine
ATTACH;FMTTYPE=image/jpeg:https://dev21.cours-de-cuisine-geneve.ch/wp-content/uploads/2018/03/chaumiere67046.jpg
ORGANIZER;CN="Ateliers%20by%20Serge%20Labrosse":MAILTO:contact@ateliersbysergelabrosse.ch
END:VEVENT
END:VCALENDAR