BEGIN:VCALENDAR
VERSION:2.0
PRODID:-//Cours de cuisine By Serge Labrosse - ECPv5.8.0//NONSGML v1.0//EN
CALSCALE:GREGORIAN
METHOD:PUBLISH
X-WR-CALNAME:Cours de cuisine By Serge Labrosse
X-ORIGINAL-URL:https://dev21.cours-de-cuisine-geneve.ch
X-WR-CALDESC:évènements pour Cours de cuisine By Serge Labrosse
BEGIN:VTIMEZONE
TZID:Europe/Paris
BEGIN:DAYLIGHT
TZOFFSETFROM:+0100
TZOFFSETTO:+0200
TZNAME:CEST
DTSTART:20180325T010000
END:DAYLIGHT
BEGIN:STANDARD
TZOFFSETFROM:+0200
TZOFFSETTO:+0100
TZNAME:CET
DTSTART:20181028T010000
END:STANDARD
END:VTIMEZONE
BEGIN:VEVENT
DTSTART;TZID=Europe/Paris:20180419T190000
DTEND;TZID=Europe/Paris:20180419T220000
DTSTAMP:20260420T021657
CREATED:20180304T185245Z
LAST-MODIFIED:20180304T185245Z
UID:7529-1524164400-1524175200@dev21.cours-de-cuisine-geneve.ch
SUMMARY:Cours 100% Homard
DESCRIPTION:Cuisiner le crustacé n’est pas une mince affaire. Le homard a une chair délicate\, qu’il est possible d’accommoder de nombreuses façons. Cet atelier vous proposera des recettes et des techniques originales. \nPince de homard en salpicon\, émulsion de yaourt\nBisque à la verveine et noix de macadamia\n ***\nHomard rôti\, ravioles de morilles et asperges vertes grillées\n ***\nTarte au citron infusé au basilic et tuile au charbon \nLe montant de cet atelier comprend : la préparation\, le menu et 3 verres de vin
URL:https://dev21.cours-de-cuisine-geneve.ch/details/cours-homard/
CATEGORIES:Cours de cuisine
ATTACH;FMTTYPE=image/jpeg:https://dev21.cours-de-cuisine-geneve.ch/wp-content/uploads/2017/10/homard-bleu-bretagne.1494365601.jpg
ORGANIZER;CN="Ateliers%20by%20Serge%20Labrosse":MAILTO:contact@ateliersbysergelabrosse.ch
END:VEVENT
END:VCALENDAR